BEGIN:VCALENDAR
VERSION:2.0
PRODID:-//LSZ - Letzebuerger Studenten zu Zürech - ECPv6.15.20//NONSGML v1.0//EN
CALSCALE:GREGORIAN
METHOD:PUBLISH
X-ORIGINAL-URL:https://lsz.lu
X-WR-CALDESC:Events for LSZ - Letzebuerger Studenten zu Zürech
REFRESH-INTERVAL;VALUE=DURATION:PT1H
X-Robots-Tag:noindex
X-PUBLISHED-TTL:PT1H
BEGIN:VTIMEZONE
TZID:Europe/Zurich
BEGIN:DAYLIGHT
TZOFFSETFROM:+0100
TZOFFSETTO:+0200
TZNAME:CEST
DTSTART:20250330T010000
END:DAYLIGHT
BEGIN:STANDARD
TZOFFSETFROM:+0200
TZOFFSETTO:+0100
TZNAME:CET
DTSTART:20251026T010000
END:STANDARD
BEGIN:DAYLIGHT
TZOFFSETFROM:+0100
TZOFFSETTO:+0200
TZNAME:CEST
DTSTART:20260329T010000
END:DAYLIGHT
BEGIN:STANDARD
TZOFFSETFROM:+0200
TZOFFSETTO:+0100
TZNAME:CET
DTSTART:20261025T010000
END:STANDARD
BEGIN:DAYLIGHT
TZOFFSETFROM:+0100
TZOFFSETTO:+0200
TZNAME:CEST
DTSTART:20270328T010000
END:DAYLIGHT
BEGIN:STANDARD
TZOFFSETFROM:+0200
TZOFFSETTO:+0100
TZNAME:CET
DTSTART:20271031T010000
END:STANDARD
END:VTIMEZONE
BEGIN:VEVENT
DTSTART;TZID=Europe/Zurich:20260116T080000
DTEND;TZID=Europe/Zurich:20260221T235900
DTSTAMP:20260425T003356
CREATED:20260116T084142Z
LAST-MODIFIED:20260116T084142Z
UID:23985-1768550400-1771718340@lsz.lu
SUMMARY:LSZ Merchandise 2025
DESCRIPTION:Du muss dech alogge fir de Forms auszefëllen
URL:https://lsz.lu/event/lsz-merchandise-2025/
LOCATION:Zürich\, Zürich\, Switzerland
ORGANIZER;CN="LSZ Comite":MAILTO:comite@lsz.lu
END:VEVENT
BEGIN:VEVENT
DTSTART;TZID=Europe/Zurich:20260225T080000
DTEND;TZID=Europe/Zurich:20260225T170000
DTSTAMP:20260425T003356
CREATED:20260215T145512Z
LAST-MODIFIED:20260215T145512Z
UID:24020-1772006400-1772038800@lsz.lu
SUMMARY:Visitt R3 Robotics
DESCRIPTION:Léif LSZ’ler\, \nDen 26. Februar steet eng ganz besonnesch Visitt um Programm. R3 Robotics invitéiert eis op e Patt. R3 Robotics ass eng innovativ Firma\, déi sech op modern Robotik an intelligent Automatiséierungsléisunge spezialiséiert huet. Ab 18:30 am HG E3 erwaart eis e spannenden an zukunftsorientéierte Programm. \nUm Agenda stinn: \n\neng Aféierung an d’Welt vun der moderner Robotik an AI-gestëtzter Automatiséierung\,\nAblécker an aktuell Projeten an technologesch Entwécklungen\,\nan natierlech Zäit fir Froen an Austausch mat den Expert:innen.\n\n\nR3 Robotics steet fir Innovatioun\, technologesch Exzellenz a praktesch Léisungen am Beräich vun der Robotik. D’Firma entwéckelt intelligent Systemer\, déi Prozesser méi effizient\, flexibel an nohalteg gestalten – a bitt eis domat en Abléck an d’Zukunft vun der Industrie. \nDir kënnt iech bis den 25. Februar um 21:00 umellen. \nMir freeën eis op eng spannend Visitt an op e flotten Owend mat Iech alleguer! \nMat beschte Gréiss\,Äre Comité \nDu muss dech alogge fir de Forms auszefëllen
URL:https://lsz.lu/event/visitt-r3-robotics/
END:VEVENT
BEGIN:VEVENT
DTSTART;VALUE=DATE:20260227
DTEND;VALUE=DATE:20260302
DTSTAMP:20260425T003356
CREATED:20260115T070759Z
LAST-MODIFIED:20260115T141738Z
UID:23940-1772150400-1772409599@lsz.lu
SUMMARY:Schiweekend 2026
DESCRIPTION:Léif LSZler\, \nD’Exame sti virun der Dier\, dofir ass elo de perfekten Zäitpunkt fir sech op e flotte Weekend mam LSZ no den Examen ze freeën. Dofir luede mir iech op den LSZ-Schiweekend am Schigebitt Andermatt-Sedrun-Disentis am Chalet Gruppenhaus Rheinquelle an. Dëse fënnt de 27. Februar bis de 1. Mäerz statt. \nMéi Informatiounen dozou fannt dir ënnert follgende Links: \nChalet & Pisteplang vum Schigebitt \nD’Hütt ass op ongeféier 1650m\, mir ginn also dovun aus\, dass do scho Schnéi ze gesinn ass. D’Schigebitt selwer huet 180km Pist wou fir jiddereen eppes dobäi ass an déi héchste Plaz leit op op baal 3000m vu wou een eng fantastesch Vue genéisse kann. Den Depart mam Bus ass geplangt Freides de 27.02 am fréie Moien um Campus Hönggerberg a mer wäerte Sonndes den 01.03 Owes rëm um Höngg sinn. Genau Informatiounen zum Depart a Retour kritt dir zu engem spéideren Zäitpunkt. \nD’Participatioun läit dëst Joer bei 230€. An deem Präis mat abegraff ass den Transport hin an zeréck\, de Schipass\, de Chalet fir 2 Nuechten\, d’Moies – an Owesiessen am Chalet\, souwéi genuch ze drénken. \nD’Umeldung wäert no den APB’s vum LSZ oflafen. Falls een sech ofmellt\, kee méi op der Waardelëscht steet an sech keen Ersatz méi fënnt\, da muss een d’Fixkäschten déi schonn ugefall sinn\, selwer bezuelen. \nDir kennt iech ab dem 17.01 (18:00) bis de 25.01 (23:59) umellen. \nD’Platze fir de Schiweekend sinn op 50 Persoune limitéiert\, maacht iech also schnell bäi. \nRéischt no der Umeldungsperiod kritt dir vun eis Bescheed gesot ob dir eng Plaz kritt hutt\, dir musst och da réischt bezuelen. Denkt och dru fir är Beloununge vum Zürcher Bal anzeléise fir eng Reduktioun op de Präis ze kréien. Spéider Umeldunge sinn och méiglech\, eventuell muss een dann awer domat rechnen op der Waardelëscht ze landen. \nBei Froe kennt dir Iech beim Responsabele vum Schiweekend mellen: Will Homer (621150649\, will.homer@lsz.lu) \nMir freeën eis op ee flotte Weekend! \nÄre Comité \nDu muss dech alogge fir de Forms auszefëllen\n 
URL:https://lsz.lu/event/schiweekend-2026/
END:VEVENT
END:VCALENDAR