BEGIN:VCALENDAR
VERSION:2.0
PRODID:-//LSZ - Letzebuerger Studenten zu Zürech - ECPv6.15.20//NONSGML v1.0//EN
CALSCALE:GREGORIAN
METHOD:PUBLISH
X-ORIGINAL-URL:https://lsz.lu
X-WR-CALDESC:Events for LSZ - Letzebuerger Studenten zu Zürech
REFRESH-INTERVAL;VALUE=DURATION:PT1H
X-Robots-Tag:noindex
X-PUBLISHED-TTL:PT1H
BEGIN:VTIMEZONE
TZID:Europe/Zurich
BEGIN:DAYLIGHT
TZOFFSETFROM:+0100
TZOFFSETTO:+0200
TZNAME:CEST
DTSTART:20240331T010000
END:DAYLIGHT
BEGIN:STANDARD
TZOFFSETFROM:+0200
TZOFFSETTO:+0100
TZNAME:CET
DTSTART:20241027T010000
END:STANDARD
BEGIN:DAYLIGHT
TZOFFSETFROM:+0100
TZOFFSETTO:+0200
TZNAME:CEST
DTSTART:20250330T010000
END:DAYLIGHT
BEGIN:STANDARD
TZOFFSETFROM:+0200
TZOFFSETTO:+0100
TZNAME:CET
DTSTART:20251026T010000
END:STANDARD
BEGIN:DAYLIGHT
TZOFFSETFROM:+0100
TZOFFSETTO:+0200
TZNAME:CEST
DTSTART:20260329T010000
END:DAYLIGHT
BEGIN:STANDARD
TZOFFSETFROM:+0200
TZOFFSETTO:+0100
TZNAME:CET
DTSTART:20261025T010000
END:STANDARD
END:VTIMEZONE
BEGIN:VEVENT
DTSTART;TZID=Europe/Zurich:20250501T000000
DTEND;TZID=Europe/Zurich:20250504T000000
DTSTAMP:20260425T163531
CREATED:20250326T123838Z
LAST-MODIFIED:20260328T121000Z
UID:22990-1746057600-1746316800@lsz.lu
SUMMARY:Clubrees 2025
DESCRIPTION:Léif LSZler\, \nAn e puer Wochen ass et nees esou wäit\, d’Clubrees 2025 steet virun der Dier. Dëst Joer geet et zréck an dat schéint Italien\, op Florenz. \nMir wäerten Donneschdes Moies\, den 1. Mee ëm 6h30 de Bus um Höngg huelen\, an eis op de Wee an de Süde machen fir hoffentlech em 18h00 zu Florenz unzekommen. Um Hiwee wäerte mir och en Zweschestop vun 2-3h zu Parma maachen fir eis d’Been ze vertreppelen an den Tank nees ze fellen. Zréck fuere mir Sonndes am Nometten an engem Stéck\, soudass mir Sonndes de 4. Mee spéit Owes zu Zürech sinn. \nFir e flotte Programm wärend de véier Deeg wäert natierlech och gesuergt sinn\, en ass awer leider nach net 100% fest. Mir deelen iech alles mat\, soubal de Plang steet. Genuch Zäit fir op eege Fauscht d’Stad ze entdecken ass awer sécher! \nD’Participatioun steet doduerch och nach net ganz fest\, mee se wäert ronderëm 140€ bis 160€ leien. Do sinn de Bus\, den Hostel\, ee gemeinsaamt Owesiessen a kleng Aktivitéiten déi mir all zesumme maachen\, mat abegraff. \nD’Plaze sinn op 36 Persoune begrenzt a bannent de Kategorië vun de Prioritéite gellt de Prinzip vum “first come first served”. Mellt iech also séier un! \nWann d’Umeldungsphas eriwwer ass\, kritt dir Bescheed gesot\, op dir eng Platz kritt hutt. Zu deem Zäitpunkt kritt dir och d’Detailer fir d’Participatioun ze bezuelen. Mir hunn aktuell nach e Problem mat der Confirmatiounsmail vun der Umeldung\, dowéinst wonnert iech net\, wann dir no ärer Submission keng Mail kritt. \nBei Froe kennt dir iech gär bei de Responsabele vun der Clubrees mellen: Cedric Mulders (cedric@lsz.lu) an Philippe Schaack (philippe.schaack@lsz.lu). \nMir freeën eis op eng flott Rees mam LSZ\, \nÄre Comité \n  \n\n\n\n\nClubrees2025\n\n\n\n\n\n\n\n\n    Numm\n        *\n    \n    \n	\n		Numm	\n\n	\n					\n				\n					Virnumm				\n\n				Virnumm			\n						\n				\n					Nonumm				\n\n				Nonumm			\n				\n\n\n    \n    \n\n\n    Email\n        *\n    \n    \n    \n    \n\n\n    Handynummer\n        *\n    \n    \n    \n    \n\n\n    Gebuertsdaag\n        *\n    \n    \n    \n    \n\n\n    Nationalitéit\n        *\n    \n    \n    \n    \n\n\n    Pass/Carte d'Identité Nummer\n        *\n    \n    \n    \n    \n\n\n    Iessenspräferenzen\n        \n    \n    					\n			 Vegetaresch\n\n    \n    \n\n\n    Allergien / aner Remarquen\n        \n    \n    \n    \n    \n\n\n    Checkboxes\n        *\n    \n    					\n			 Ech akzeptéiren d'APB (Allgemeng Participatiouns Bedingungen) https://lsz.lu/wp-content/uploads/2023/10/Allgemeng-Participatiouns-Bedingungen-update-1.pdf\n\n    \n    \n\n\n\n	\n\nSubmit\n\n\n\n\n	\n			\n			\n				If you are human\, leave this field blank.
URL:https://lsz.lu/event/clubrees-25/
END:VEVENT
BEGIN:VEVENT
DTSTART;TZID=Europe/Zurich:20250510T180000
DTEND;TZID=Europe/Zurich:20250511T020000
DTSTAMP:20260425T163531
CREATED:20250328T110007Z
LAST-MODIFIED:20250328T111032Z
UID:22997-1746900000-1746928800@lsz.lu
SUMMARY:SPL 2025 Alumni
DESCRIPTION:Léif Alumnis vum LSZ\, \nFir de Kontakt tëscht de LSZler an den Alumnis weiderhin oprecht ze erhalen\, invitéiere mir Iech den 10. Mee ganz häerzlech op eis traditionell SPL. \nD’Konzept vun der SPL sollt deene meeschten nach bekannt sinn: En 3-Gang-Menü an enger schicker Ambiance mat\, aus Lëtzebuerg importéiertem\, Wäin a Cremant fir den ETH Professeren ze gedenken déi eis Lëtzebuerger Studente wärend dem 2. Weltkrich bäi sech opgeholl hunn. \nDëst ass mat ee vun eise gréissten Eventer am Joer an et géif eis immens freeën eng Rei Alumnis vum LSZ do begréissen ze kënnen. Net nëmmen ass dëst fir eis eng flott Méiglechkeet vun Erfarungen aus der Beruffswelt ze héieren a vun ärer Uniszäit gezielt ze kréien\, mais et ass sécher och fir Iech eng super Alternativ dem LSZ nees méi no ze kommen a gezielt ze kréien\, wat sech alles säit ärer Uniszäit verännert huet. \nD’SPL fënnt dëst Joer am Zunfthaus zum Rüden (https://www.hauszumrueden.ch) statt. Déi genau Adress ass Limmatquai 42\, 8001 Zürich. Mir géifen um 18:00 mam Apéro starten. Wei gewinnt gëllt op der SPL d’Tenue correcte. Dir hutt de Choix tëscht 2 Menüen (Fleesch a vegetaresch) an d’Participatioun beleet sech op 140€. \nBäi Froe kënnt Dir Iech gäre bei eis mellen. \nMir freeën eis Iech op d’SPL kënnen ze invitéieren\, an hoffen der vill vun Iech kënnen do ze gesinn. \nÄren LSZ Comité \nThis form is currently closed for submissions.
URL:https://lsz.lu/event/spl-2025-alumni/
LOCATION:Haus zum Rüden\, Limmatquai 42\, Zürich\, Switzerland
END:VEVENT
BEGIN:VEVENT
DTSTART;TZID=Europe/Zurich:20250510T180000
DTEND;TZID=Europe/Zurich:20250511T020000
DTSTAMP:20260425T163531
CREATED:20250407T060028Z
LAST-MODIFIED:20250428T081057Z
UID:23003-1746900000-1746928800@lsz.lu
SUMMARY:SPL 2025
DESCRIPTION:Léif LSZ’ler\, \nMir hunn déi grouss Freed iech den 10. Mee am Haus zum  Rüden (https://www.hauszumrueden.ch/) op d’SPL ze invitéieren. Bei dëser SPL wäert et nees de Fall sinn\, dass och Alumnien\, also LSZ’ler\, déi viru mei laanger Zäit zu Zürech studéiert hunn\, invitéiert sinn a mat eis e flotten Owend verbrénge wäerten. \nDir hutt de Choix tëscht engem Fleesch – a Vegimenü\, déi follgendermoossen ausgesinn: \nApero: Mini-Käseküchlein und Mini Schinkengipfeli\nZopp: Räuschling Cremesuppe mit Croutons\nHaaptplat: Hackbraten mit Pilzrahmsauce oder veganes Zürich Geschnetzeltes mit Gemüse und Rösti\nDessert: Lemon Tarte mit Meringue und Joghurtglace \nSot eis w.e.g. bei Allergië mat Zäite Bescheed. \nStart ass um 18:00 mam Apero. D’Participatioun beleeft sech dëst Joer op 80 Euro. Iwwerweist déi w.e.g. réischt nodeems der vun eis d’Confirmatioun dozou krut. \nDir kënnt och erëm äre Wonschsëtzpartner uginn. Schwätzt iech do w.e.g. virdrunner mateneen of. Traditionell ass den Dresscode Owestenue\, dat heescht Costume oder Kleed. \nDenkt och w.e.g. drun\, dass mir nach Wäin hunn\, deen op Zürech muss transportéiert ginn. Mellt iech dowéinst w.e.g beim Philippe Schaack\, wann dir vu Lëtzebuerg op Zürech fuert fir e puer Këschte matzebréngen. \nDir kennt iech vum 7. Abrëll um 18:00 bis den 28. Abrëll um 23:59 umellen. \nD’Umeldunge verlafen nom Prioritéitenprinzip aus eisen APB. \nD’Plaze si begrenzt a bannent de Kategorië vun de Prioritéite gëllt de Prinzip vum “first come first served”. Mellt iech also séier un! \nMir freeën eis riseg iech all rëm kënnen op d’SPL ze invitéieren an hoffen\, vill vun iech kënnen do ze gesinn! \nDe Comité\nDu muss dech alogge fir de Forms auszefëllen
URL:https://lsz.lu/event/spl-2025/
LOCATION:Haus zum Rüden\, Limmatquai 42\, Zürich\, Switzerland
END:VEVENT
BEGIN:VEVENT
DTSTART;VALUE=DATE:20250517
DTEND;VALUE=DATE:20250518
DTSTAMP:20260425T163532
CREATED:20250329T114140Z
LAST-MODIFIED:20250329T114140Z
UID:23038-1747440000-1747526399@lsz.lu
SUMMARY:SOLA 2025
DESCRIPTION:Léif Leefer a Leeferinnen\, \nGeschwënn ass et rëm sou weit an den LSZ kann sech op der Édition 2025 vun der SOLA beweisen! Bei der Sola handelt et sech em e Staffellaf vum ASVZ iwwert 114\,77km\, opgedeelt a 14 Etappen\, den duerch ganz Zürech geet. Dat ganzt fënnt Samsdes de 17.05 statt. Wéi och d’lescht Joer ginn et zwou Gruppe fir d’Staffel. Eng Equipe ass kompetitiv (Equipe 1) an déi aner ass Just for Fun (Equipe 2)! \nËnnert folgendem Link fann dir all d’Informatiounen iwwer d’SOLA.  \nLG\, \nÄre Comité \nThis form is currently closed for submissions.
URL:https://lsz.lu/event/sola-2025/
LOCATION:Zürich\, Zürich\, Switzerland
ORGANIZER;CN="LSZ Comite":MAILTO:comite@lsz.lu
END:VEVENT
BEGIN:VEVENT
DTSTART;TZID=Europe/Zurich:20250517T190000
DTEND;TZID=Europe/Zurich:20250517T235900
DTSTAMP:20260425T163532
CREATED:20250422T164657Z
LAST-MODIFIED:20250422T164657Z
UID:23114-1747508400-1747526340@lsz.lu
SUMMARY:Beerpong Tournoi 2025
DESCRIPTION:Léif LSZler\, léif Frënn vum LSZ\, \nEt ass erëm souwäit\, den alljärleche Beerpongtournoi fennt nees statt. Schnappt iech also äre Beerpong Partner a kommt de 17. Mee um 19 Auer bei d’Grillstelle Käferberg beim Bucheggplatz\, fir em den Titel vun de Beerpongchampions 2025 ze kämpfen.\nD’Umeldung geet vu Samsdes de 26.04.2025 um 18:00 bis Sonndes den 11.05.2025 um 23:59. Denkt och drun\, dass nëmmen ee vum Team de Forms ausfëlle muss.\nFir Gedrénks a Gegrills wäert och gesuergt sinn\, soudass mir den Owend gemittlech kennen ausklénge loossen.\nAn denkt un den Insektespray et wäerte vill Moustiquen do sinn.\nMir freeën eis op iech\,\nÄre Comité \nPlease select a valid form
URL:https://lsz.lu/event/beerpong-tournoi-2025/
ORGANIZER;CN="LSZ Comite":MAILTO:comite@lsz.lu
END:VEVENT
BEGIN:VEVENT
DTSTART;TZID=Europe/Zurich:20250520T080000
DTEND;TZID=Europe/Zurich:20250520T170000
DTSTAMP:20260425T163532
CREATED:20250520T183503Z
LAST-MODIFIED:20250520T183503Z
UID:23297-1747728000-1747760400@lsz.lu
SUMMARY:3-Schichten-Iessen 2025
DESCRIPTION:Léif LSZler\, \n  \nMir treffen eis den Densden\, 27. Mee um 19h am Cucina um Limmatplatz (https://maps.app.goo.gl/h6yvRhPvcf5FAqtQ6) fir d’3-Schichten-Iessen. De Budget läit bei ca 80 CHF pro Persoun.\nDir kennt iech ab elo bis de 25. Mee ennert folgendem Link umellen. (https://lsz.lu/event/3-schichten-iessen-2025/) \n  \nLéif Gréiss\, \nDe Comité \n  \n\n\n\n\n3-Schichten Iessen 2025\n\n\n\n\n\n\n\n\n    Virnumm\n        *\n    \n    \n    \n    \n\n\n    Nonumm\n        *\n    \n    \n    \n    \n\n\n    Email\n        *\n    \n    \n    \n    \n\n\n    Telefon\n        *\n    \n    \n    \n    \n\n\n    Kënns du op d'3-Schichteniessen ?\n        *\n    \n    					\n					 Jo\n					\n					 Nee\n\n    \n    \n\n\nHei fënns du den Link fir dem Restaurant säi Menu fir den Owend. Schreif däi Choix an déi jeweileg Box\, fir dass mir dem Restaurant dat schon matdeelen kënnen. Den LSZ iwwerhëlt em déi 80 CHF/Persoun fir d'Iessen an Gedrenks. \n\n\nMenu \n\n\n    Wëlls du eng Entrée ?\n        *\n    \n    					\n					 Jo\n					\n					 Nee\n\n    \n    \n\n\n    Wat wëlls du als Entrée ?\n        *\n    \n    \n    \n    \n\n\n    Wat wëlls du als Haaptplat ?\n        *\n    \n    \n    \n    \n\n\n    Wëlls du en Dessert ?\n        *\n    \n    					\n					 Jo\n					\n					 Nee\n\n    \n    \n\n\n    Wat wëlls du als Dessert ?\n        *\n    \n    \n    \n    \n\n\n    Kommentar (Allergien\, Intoleranzen\, aner Wensch etc)\n        \n    \n    \n    \n    \n\n\n	\n\nSubmit\n\n\n\n	\n			\n			\n				If you are human\, leave this field blank.
URL:https://lsz.lu/event/3-schichten-iessen-2025/
END:VEVENT
BEGIN:VEVENT
DTSTART;TZID=Europe/Zurich:20250524T150000
DTEND;TZID=Europe/Zurich:20250524T220000
DTSTAMP:20260425T163532
CREATED:20250507T142437Z
LAST-MODIFIED:20250509T094246Z
UID:23148-1748098800-1748124000@lsz.lu
SUMMARY:Beermile & Stammdësch
DESCRIPTION:Leif LSZ’ler\,\nFir de leschte Stammdësch vum Semester hu mer eis eppes Neies iwwerluecht:\nMir géifen eng Beermile organiséieren\, baséierend ob den “offiziellen” Reegelen. (beermile.com)\nEng Beermile ass véier mol een Tour ronderëm en Terrain\, mat firun all Tour eng 0.3l Béier. Dat gëtt en total vu véier Béier an 1600 Meter (eng Mile).\nZousätzlech zu der kompletter Beermile géife mer och nach e Beermile-Relais ubidde\, wou der zu 2 d’Beermile an Ugrëff kennt huelen. Dat ganzt wär um Terrain vun der Sportanlage Au\, wou et natierlech och Vestiairë ginn. \nMir géifen eis och ob Spectateure freeë fir Stëmmung ze maachen\, dowéinst ass et net just eng Aktivitéit fir eis Sportler. No der Beermile gi mer riwwer an den Opfikerpark fir eise Stammdësch. Do gëtt da gegrillt\, an den Owend entspaant ausklénge gelooss. Fir genuch Gedrénks ass natierlech déi ganzen Zäite gesuergt. \nTreffpunkt ass um 15:00 bei der Sportanlage Au. \nBei weidere Froe kennt der iech beim Patrick\, Lucca oder Will mëllen.\nMir freeën eis ob iech\,\näre Comité \nDu muss dech alogge fir de Forms auszefëllen
URL:https://lsz.lu/event/beermile-stammdesch/
END:VEVENT
END:VCALENDAR