BEGIN:VCALENDAR
VERSION:2.0
PRODID:-//LSZ - Letzebuerger Studenten zu Zürech - ECPv6.15.20//NONSGML v1.0//EN
CALSCALE:GREGORIAN
METHOD:PUBLISH
X-WR-CALNAME:LSZ - Letzebuerger Studenten zu Zürech
X-ORIGINAL-URL:https://lsz.lu
X-WR-CALDESC:Events for LSZ - Letzebuerger Studenten zu Zürech
REFRESH-INTERVAL;VALUE=DURATION:PT1H
X-Robots-Tag:noindex
X-PUBLISHED-TTL:PT1H
BEGIN:VTIMEZONE
TZID:Europe/Zurich
BEGIN:DAYLIGHT
TZOFFSETFROM:+0100
TZOFFSETTO:+0200
TZNAME:CEST
DTSTART:20230326T010000
END:DAYLIGHT
BEGIN:STANDARD
TZOFFSETFROM:+0200
TZOFFSETTO:+0100
TZNAME:CET
DTSTART:20231029T010000
END:STANDARD
BEGIN:DAYLIGHT
TZOFFSETFROM:+0100
TZOFFSETTO:+0200
TZNAME:CEST
DTSTART:20240331T010000
END:DAYLIGHT
BEGIN:STANDARD
TZOFFSETFROM:+0200
TZOFFSETTO:+0100
TZNAME:CET
DTSTART:20241027T010000
END:STANDARD
BEGIN:DAYLIGHT
TZOFFSETFROM:+0100
TZOFFSETTO:+0200
TZNAME:CEST
DTSTART:20250330T010000
END:DAYLIGHT
BEGIN:STANDARD
TZOFFSETFROM:+0200
TZOFFSETTO:+0100
TZNAME:CET
DTSTART:20251026T010000
END:STANDARD
END:VTIMEZONE
BEGIN:VEVENT
DTSTART;TZID=Europe/Zurich:20241009T170000
DTEND;TZID=Europe/Zurich:20241009T233000
DTSTAMP:20260426T063017
CREATED:20241007T210611Z
LAST-MODIFIED:20241007T210611Z
UID:22265-1728493200-1728516600@lsz.lu
SUMMARY:TeV 2024
DESCRIPTION:Léif Bleuen\,\nE Mëttwoch den 9. Oktober geet et fir Iech schonn op ären zweeten Event wou mir Iech déi schéi Stad an der dir lo lieft emol richteg weisen. Dofir wäerte mir um 17h00 op der Polyterrasse beim ETH Haaptgebai starten. Ditt Kleeder un déi kenne knaschteg ginn a bréngt nei Ënnerwäsch\, Kleeder an en Handduch (kee Kichenduch) mat. Ausserdeem sollt dir natierlech d’Statute vum LSZ an eis Heemecht kennen. Mir brauchen Iech dat warscheinlech net mei ze soen\, mee sidd pünktlech.\nMir freeën eis op Iech\,\nÄre Bleuecomité \nPlease select a valid form
URL:https://lsz.lu/event/tev-2024/
END:VEVENT
BEGIN:VEVENT
DTSTART;TZID=Europe/Zurich:20241019T220000
DTEND;TZID=Europe/Zurich:20241019T233000
DTSTAMP:20260426T063017
CREATED:20241018T112023Z
LAST-MODIFIED:20241018T113751Z
UID:22387-1729375200-1729380600@lsz.lu
SUMMARY:AG Hierscht 2024
DESCRIPTION:WhatsApp Grupp: https://chat.whatsapp.com/IjIIDZnDDYsCep3evVkuoP \n  \n\n\n\n\nOnline-Memberskaart 24/25\n\n\n\n\n\n\n\n\n    Virnumm\n        *\n    \n    \n    \n    \n\n\n    Nonumm\n        *\n    \n    \n    \n    \n\n\n    Email\n        *\n    \n    \n    \n    \n\n\n    Handynummer: (mat Virwahl +XXX)\n        *\n    \n    \n    \n    \n\n\n    Héichschoul:\n        *\n    \n    					\n					 ETH\n					\n					 UZH\n					\n					 Aner:Aner:\n\n    \n    \n\n\n    Studiengang\n        *\n    \n    \n    \n    \n\n\n    Aktuell ageschriwwen am:\n        *\n    \n    					\n					 Bachelor\n					\n					 Master\n					\n					 Doktorat\n					\n					 AneresAneres\n\n    \n    \n\n\n    Art vun der Memberschaft:\n        *\n    \n    					\n					 Aktiv\n					\n					 Passiv\n\n    \n    \n\n\n	\n\nSubmit\n\n\n\n	\n			\n			\n				If you are human\, leave this field blank.
URL:https://lsz.lu/event/ag-hierscht-2024/
END:VEVENT
BEGIN:VEVENT
DTSTART;TZID=Europe/Zurich:20241030T160000
DTEND;TZID=Europe/Zurich:20241030T220000
DTSTAMP:20260426T063017
CREATED:20240926T090021Z
LAST-MODIFIED:20241001T184119Z
UID:22135-1730304000-1730325600@lsz.lu
SUMMARY:PwC meets LSZ - 30. Oktober 2024
DESCRIPTION:PwC refers to the PwC network and/or one or more of its member firms\, each of which is a separate legal entity. Please see www.pwc.com/structure for further details. Liability limited by a scheme approved under Professional Standards Legislation.\nPwC Luxembourg strives to build trust in providing audit\, tax and advisory services in ways that protect the privacy of its clients\, current or former employees\, and others with whom it does business through the design of its products and robust information security safeguards. PwC Luxembourg aspires to promote transparency through education initiatives\, privacy principles and guidelines\, and appropriate opportunities for choice\, access\, and correction with respect to personal information about data subjects. \nPlease select a valid form
URL:https://lsz.lu/event/pwc-meets-lsz-30-oktober-2024/
LOCATION:ETH Zentrum\, Rämistrasse 101\, Zurich\, Zurich\, 8092\, Switzerland
CATEGORIES:Event
ORGANIZER;CN="LSZ Comite":MAILTO:comite@lsz.lu
END:VEVENT
END:VCALENDAR