BEGIN:VCALENDAR
VERSION:2.0
PRODID:-//LSZ - Letzebuerger Studenten zu Zürech - ECPv6.15.20//NONSGML v1.0//EN
CALSCALE:GREGORIAN
METHOD:PUBLISH
X-WR-CALNAME:LSZ - Letzebuerger Studenten zu Zürech
X-ORIGINAL-URL:https://lsz.lu
X-WR-CALDESC:Events for LSZ - Letzebuerger Studenten zu Zürech
REFRESH-INTERVAL;VALUE=DURATION:PT1H
X-Robots-Tag:noindex
X-PUBLISHED-TTL:PT1H
BEGIN:VTIMEZONE
TZID:Europe/Zurich
BEGIN:DAYLIGHT
TZOFFSETFROM:+0100
TZOFFSETTO:+0200
TZNAME:CEST
DTSTART:20230326T010000
END:DAYLIGHT
BEGIN:STANDARD
TZOFFSETFROM:+0200
TZOFFSETTO:+0100
TZNAME:CET
DTSTART:20231029T010000
END:STANDARD
BEGIN:DAYLIGHT
TZOFFSETFROM:+0100
TZOFFSETTO:+0200
TZNAME:CEST
DTSTART:20240331T010000
END:DAYLIGHT
BEGIN:STANDARD
TZOFFSETFROM:+0200
TZOFFSETTO:+0100
TZNAME:CET
DTSTART:20241027T010000
END:STANDARD
BEGIN:DAYLIGHT
TZOFFSETFROM:+0100
TZOFFSETTO:+0200
TZNAME:CEST
DTSTART:20250330T010000
END:DAYLIGHT
BEGIN:STANDARD
TZOFFSETFROM:+0200
TZOFFSETTO:+0100
TZNAME:CET
DTSTART:20251026T010000
END:STANDARD
END:VTIMEZONE
BEGIN:VEVENT
DTSTART;TZID=Europe/Zurich:20240406T193000
DTEND;TZID=Europe/Zurich:20240406T220000
DTSTAMP:20260425T162257
CREATED:20240410T154727Z
LAST-MODIFIED:20240410T154727Z
UID:21622-1712431800-1712440800@lsz.lu
SUMMARY:3-Schichten-Iessen 2024
DESCRIPTION:Léiwen LSZ’ler\, \nwei schon ugekennegt fënnt en Donnesden 18. Abrëll um 19:30 am Restaurant Santa Lucia (Adresse: Waaggasse 5\, 8001 Zürich\, Schweiz) d’3-Schichten Iessen vum Zürcherbal 2023 statt. Fir dass mir wessen mat weivill Leit mir kenne rechnen bieden mer dech\, dech bis en Meinden den Owend (15.4) unzemellen\, wous du och direkt den Menu muss uginn deen dir gefällt. \n\nMir frëen eis op dech\,  \nLSZ Comité \nThis form is currently closed for submissions.
URL:https://lsz.lu/event/3-schichten-iessen-2024/
LOCATION:Santa Lucia Paradeplatz\, Waaggasse 5\, Zürich\, 8001\, Switzerland
ORGANIZER;CN="LSZ Comite":MAILTO:comite@lsz.lu
END:VEVENT
BEGIN:VEVENT
DTSTART;TZID=Europe/Zurich:20240425T200000
DTEND;TZID=Europe/Zurich:20240429T090000
DTSTAMP:20260425T162257
CREATED:20240324T172351Z
LAST-MODIFIED:20240324T175046Z
UID:21429-1714075200-1714381200@lsz.lu
SUMMARY:Budapest 2024
DESCRIPTION:Léif LSZler\, \n  \nAn e puer Wochen ass et nees esou wäit\, d’Clubrees 2024 steet virun der Dier. Dëst Joer traue mer eis e bëssi méi wäit ewech vun Zürech\, an zwar fuere mer duerch fënnef Länner der Donau no bis an d’Haaptstad vun Ungarn\, op Budapest. \n  \nMir wäerten Donneschdenowend\, de 25. Abrëll den Nuetszuch zu Zürech huelen\, an duerch d’Schwäiz\, Liechtenstein\, Éisträich\, Däitschland an Ungarn fueren\, fir Freidegmoien ausgeschlof zu Budapest unzekommen. Zeréck fuere mer Sonndenowend\, soudass mer Méindes den 29. Abrëll em kuerz no 8h nees zu Zürech sinn. \n  \nFir e flotte Programm wärend den dräi Deeg wäert natierlech och gesuergt sinn\, en ass awer leider nach net 100% fest. Mir deelen iech alles mat\, soubal de Plang steet. Genuch Zäit fir op eege Fauscht d’Stad ze entdecken ass awer sécher! \n  \nD’Participatioun steet doduerch och nach net ganz fest\, mee se wäert ronderëm 140€ bis 160€ leien. Do sinn den Nuetszuch\, den Hostel\, ee gemeinsaamt Owesiessen a kleng Aktivitéiten déi mir all zesumme maachen\, mat abegraff. \n  \nDir kennt iech vum Dënschden\, 26.03.2024 em 18h00 bis de Freiden\, 29.03.2024 em 18h00 op eiser Website ënnert dësem Link (lsz.lu/event/budapest-2024/) umellen. D’Umeldunge verlafen nom Prioritéitenprinzip aus eisen APB (lsz.lu/allgemeng-participatiouns-bedingungen-update-1/).  \n  \nD’Plaze sinn op 30 Persoune begrenzt a bannent de Kategorië vun de Prioritéite gellt de Prinzip vum “first come first served”. Mellt iech also séier un! \n  \nWann d’Umeldungsphas eriwwer ass\, kritt dir Bescheed gesot\, op dir eng Platz kritt hutt. Zu deem Zäitpunkt kritt dir och d’Detailer fir d’Participatioun ze bezuelen. Mir hunn aktuell nach e Problem mat der Confirmatiounsmail vun der Umeldung\, dowéinst wonnert iech net\, wann dir no ärer Submission keng Mail kritt. \n  \nBei Froe kennt dir iech gär bei de Responsabele vun der Clubrees mellen: Cedric Mulders (cedric@lsz.lu) an Philippe Schaack (philippe.schaack@lsz.lu).  \n  \nMir freeën eis op eng flott Rees mam LSZ\, \n  \nÄre Comité \nThis form is currently closed for submissions.
URL:https://lsz.lu/event/budapest-2024/
END:VEVENT
END:VCALENDAR