BEGIN:VCALENDAR
VERSION:2.0
PRODID:-//LSZ - Letzebuerger Studenten zu Zürech - ECPv6.15.20//NONSGML v1.0//EN
CALSCALE:GREGORIAN
METHOD:PUBLISH
X-ORIGINAL-URL:https://lsz.lu
X-WR-CALDESC:Events for LSZ - Letzebuerger Studenten zu Zürech
REFRESH-INTERVAL;VALUE=DURATION:PT1H
X-Robots-Tag:noindex
X-PUBLISHED-TTL:PT1H
BEGIN:VTIMEZONE
TZID:Europe/Zurich
BEGIN:DAYLIGHT
TZOFFSETFROM:+0100
TZOFFSETTO:+0200
TZNAME:CEST
DTSTART:20230326T010000
END:DAYLIGHT
BEGIN:STANDARD
TZOFFSETFROM:+0200
TZOFFSETTO:+0100
TZNAME:CET
DTSTART:20231029T010000
END:STANDARD
BEGIN:DAYLIGHT
TZOFFSETFROM:+0100
TZOFFSETTO:+0200
TZNAME:CEST
DTSTART:20240331T010000
END:DAYLIGHT
BEGIN:STANDARD
TZOFFSETFROM:+0200
TZOFFSETTO:+0100
TZNAME:CET
DTSTART:20241027T010000
END:STANDARD
BEGIN:DAYLIGHT
TZOFFSETFROM:+0100
TZOFFSETTO:+0200
TZNAME:CEST
DTSTART:20250330T010000
END:DAYLIGHT
BEGIN:STANDARD
TZOFFSETFROM:+0200
TZOFFSETTO:+0100
TZNAME:CET
DTSTART:20251026T010000
END:STANDARD
END:VTIMEZONE
BEGIN:VEVENT
DTSTART;TZID=Europe/Zurich:20240301T063000
DTEND;TZID=Europe/Zurich:20240303T230000
DTSTAMP:20260425T144402
CREATED:20240110T160915Z
LAST-MODIFIED:20240110T215037Z
UID:21235-1709274600-1709506800@lsz.lu
SUMMARY:Schiweekend 24
DESCRIPTION:Léif LSZ’ler\, \n  \nFir iech an der ustrengender Léierphase bei Laun ze halen an iech ze motivéieren nach de Januar a Februar z’iwwerstoen hu mir eng gutt Noriicht fir iech: De Schiweekend 2024 steet virun der Dier! \nDëst Joer geet et op Torgon am wonnerschéine Wallis\, wat am Schigebitt Les Portes du Soleil\, dem zweet gréisste Schigebitt vun der Welt\, läit. \nDe Schiweekend fënnt dëst Joer vu Freides moies\, den 1.Mäerz\, bis Sonndes owes\, den 3. Mäerz\, statt.\nDe Präis fir alles(ausgeholl vum Mëttesiessen a dem Schi-Equipement wat ee léine misst) beleeft sech op 200€ . \nUmelle kënnt der iech vum 15. Januar um 18:00 Auer bis den 22. Januar um 23:59 Auer iwwert de Forms hei ënnendrënner.\nWéi all Joers gëllt et sech séier unzemelle well d’Platzen op 50 Läit begrenzt sinn.\nBei der Umeldung gëllen d’APB’en vun eisem Club. \nVergiesst net am Forms unzeginn op der är Beloununge vun äre geschaffte Schichten um Bal benotze wëllt. D’ Unzuel Belounungen déi iech ze gutt sti fannt dir an der Annexe vun der Mail oder hei. \nWeider Infoen a Detailer zum Oflaf kritt dir mat der Confirmatioun vun ärer Participatioun. Dëst Joer brauch dir awer alleguer ee Schlofsak! \nMir wënschen iech vill Gléck fir d’Examen a freeën eis iech op eisen nächsten Eventer nees an eng sportlech a drénkfest Form ze bréngen. \n  \nÄre Comité \n  \nPlease select a valid form
URL:https://lsz.lu/event/schiweekend-24/
LOCATION:Torgon\, Route des Fours 3\, Torgon\, 1899\, Switzerland
END:VEVENT
BEGIN:VEVENT
DTSTART;TZID=Europe/Zurich:20240316T200000
DTEND;TZID=Europe/Zurich:20240316T200000
DTSTAMP:20260425T144402
CREATED:20240307T145524Z
LAST-MODIFIED:20240311T200115Z
UID:21402-1710619200-1710619200@lsz.lu
SUMMARY:LSZ meets Afrez - Pubquiz
DESCRIPTION:Léif Leit\, \nMir hunn eis geduecht\, et wier flott sech emol mat engem anere Cercle vum VSETH zesummenzedoen – dofir hunn mir den 16.03.2024 mat der Afrez (Association Francophone des Étudiants de Zürich) e Pubquiz mat open End organiséiert. Dat Ganzt fënnt an eisem geliibten Loch Ness statt. \nDe Pubquiz fänkt um 20h00 un (sidd pünktlech!) an gëtt mat gemëschte Teams (Afrez / LSZ) duerchgefouert fir sech e bësse kennenzeléieren. Hei sinn d’Plazen op 40 LSZ’ler limitéiert\, mellt iech wanneschglifft heidrënner un. \nGéint 22h00 sollte mir eis dann genuch kennegeléiert hunn\, fir zesummen e bëssen ze danzen. Fir d’Party muss een sech NET umellen an d’Entrée ass gratis. Fir Gedrénks ass gesuergt. \nEt ass selbstverständlech\, dass mir eis vun eiser beschter Säit weisen an hinnen mol bäibréngen\, wéi een Party mëscht. \nMir freeën eis op Iech! \nKuss\,\nde Comité \nPlease select a valid form
URL:https://lsz.lu/event/lsz-meets-afrez-pubquiz/
END:VEVENT
END:VCALENDAR