BEGIN:VCALENDAR
VERSION:2.0
PRODID:-//LSZ - Letzebuerger Studenten zu Zürech - ECPv6.15.20//NONSGML v1.0//EN
CALSCALE:GREGORIAN
METHOD:PUBLISH
X-WR-CALNAME:LSZ - Letzebuerger Studenten zu Zürech
X-ORIGINAL-URL:https://lsz.lu
X-WR-CALDESC:Events for LSZ - Letzebuerger Studenten zu Zürech
REFRESH-INTERVAL;VALUE=DURATION:PT1H
X-Robots-Tag:noindex
X-PUBLISHED-TTL:PT1H
BEGIN:VTIMEZONE
TZID:Europe/Zurich
BEGIN:DAYLIGHT
TZOFFSETFROM:+0100
TZOFFSETTO:+0200
TZNAME:CEST
DTSTART:20220327T010000
END:DAYLIGHT
BEGIN:STANDARD
TZOFFSETFROM:+0200
TZOFFSETTO:+0100
TZNAME:CET
DTSTART:20221030T010000
END:STANDARD
BEGIN:DAYLIGHT
TZOFFSETFROM:+0100
TZOFFSETTO:+0200
TZNAME:CEST
DTSTART:20230326T010000
END:DAYLIGHT
BEGIN:STANDARD
TZOFFSETFROM:+0200
TZOFFSETTO:+0100
TZNAME:CET
DTSTART:20231029T010000
END:STANDARD
BEGIN:DAYLIGHT
TZOFFSETFROM:+0100
TZOFFSETTO:+0200
TZNAME:CEST
DTSTART:20240331T010000
END:DAYLIGHT
BEGIN:STANDARD
TZOFFSETFROM:+0200
TZOFFSETTO:+0100
TZNAME:CET
DTSTART:20241027T010000
END:STANDARD
END:VTIMEZONE
BEGIN:VEVENT
DTSTART;TZID=Europe/Zurich:20231117T080000
DTEND;TZID=Europe/Zurich:20231119T170000
DTSTAMP:20260425T060150
CREATED:20231022T124733Z
LAST-MODIFIED:20231027T191454Z
UID:20408-1700208000-1700413200@lsz.lu
SUMMARY:Intercercle 2023 – Intern
DESCRIPTION:Léif LSZ’ler\, \n  \nVum 17.-19. November fënnt eisen legendären Intercercle den Clear the Bottles statt. Hei fannt dir d’ Veranstaltung wou dir är Kolleegen kënnt alueden an wou alleguerten d’Informatiounen fir déi Extern drastinn. \nDen Programm gesäit folgendermoossen aus: \n\nFreides den 17.11 um 18:30: Den LSZ invitéiert op eng gutt Kéis-Fondue am GZ Affoltern mat Wäin\, Béier an Softs à volonté.\n\n\nSamschdes den 18.11:\n\n\nAb 13:00: Ee Rallye duerch eis wonnerschéi Stad\, mat gudder Stëmmung a genuch flësseger Motivatioun.\nAb 21:00: Den legendäre Clear-the-Bottles. Open Bar an der “Wunderbox”  an der Langstrasse bis spéit an d’Nuecht mat allem wat d’Häerz begeeschtert.\n\nD’Matmaachen um Rallye ass net obligatoresch. Um Rallye wäerten d’Gruppe gemëscht ginn. Jidderee kann awer bei der Umeldung eng Referenzpersoun uginn\, mat deem en an eng Grupp kënnt. \nD’Participatioun fir LSZ’ler stellt sech folgendermoossen zesummen:  \n\nFreides (Fondue): 20€\nSamsdes (Rallye an CTB): 10€\n\n\nAn der Wunderbox ass eis Kapazitéit op 250 Leit begrenzt (LSZ’ler+Extern). Jidderee muss sech umelle fir um CTB kënnen deelzehuelen. Dofir musst dir eng gülteg Memberskaart https://lsz.lu/event/ag-hierscht-2023/ hun. D’Umeldunge lafen no den Allgemenge Participatiouns Bedingungen (APB) vum LSZ of. D’Umeldungsperiod fir d’LSZler start den Freiden den 27. Oktober um 18:00 an geet bis sonndes den 29. Oktober um 18:00 ënnert folgendem Link https://lsz.lu/event/intercercle-2023-intern/. Wann dir iech innerhalb vun dëser Period umellt\, hutt dir eng garantéiert Platz. Falls dir iech no dëser Umeldungsperiod wëllt umellen\, musst dir iech iwwer den Externe Forms umellen a mir kënnen iech keng Platz garantéieren. Dir hutt no der Umeldung eng Woch Zäit fir d’Participatioun an är Memberskaart (falls dir se net op der AG kaf hutt) ze bezuelen\, soss verléiert dir är Plaz. Dëst per Iwwerweisung op eise Konto (IBAN: LU34 0019 2955 4503 3000) oder per Payconiq (+41 79 767 63 25) mam Vermierk: “Intercercle CTB 2023 – Virnumm Nonumm”.  \nMir bidde fir déi extern Gäscht Schlofplazen un. Och hei si mir op är Hëllef ugewisen. Wann dir eng Platz kënnt zu Verfügung stellen\, gitt dëst w.e.g bei der Umeldung un\, et muss och keng Platz an engem Bett sinn\, eng Loftmatrass mécht d’Saach och 😉\n\nNach eng Kéier zesummegefaasst wat fir iech anescht ass wei fir déi extern Gäscht. \n\nd’Umeldungsperiod geet 2 Deeg éischter op an dir kritt eng garantéiert Platz wann dir iech innerhalb vun deenen 2 Deeg umellt\nd’Participatioun fir den Clear the Bottles selwer ass méi niddereg\n\nBei Froen oder Onkloerheeten kënnt dir iech bei eis mëllen. \n  \nMir freeën eis op ee flotten Weekend mat iech an ären Kolleegen\, \nDen LSZ Comité \n  \nPlease select a valid form\n 
URL:https://lsz.lu/event/intercercle-2023-intern/
END:VEVENT
BEGIN:VEVENT
DTSTART;TZID=Europe/Zurich:20231119T180000
DTEND;TZID=Europe/Zurich:20231119T233000
DTSTAMP:20260425T060150
CREATED:20231102T112316Z
LAST-MODIFIED:20231105T115859Z
UID:20459-1700416800-1700436600@lsz.lu
SUMMARY:Fussballmatch Liechtenstein - Letzebuerg
DESCRIPTION:Léif LSZler\, \n  \nFir déi\, déi den Weekend vum Clear the Bottles nach net genug Action haten\, fueren mir den Sonndeg\, 19. November zesummen op Vaduz\, Liechtenstein eis Rout Léiwen fir den läschten Fussball-EM Qualifikatiounsmatch ennerstetzen. Och wann d’Qualifikatioun net méi wahrscheinlech ass\, kennen mir fir gutt Stemmung am Auswäertsblock suergen\, an den Liechtensteiner weisen wie mir sinn. Mir géifen mam Bus vum Höngg géint 18h30 fortfueren\, an den Owend selwer och nees zeréckfueren\, soudass mir em kuerz no Metternuecht nees zu Zürech sinn. D’Plazen sinn aktuell op 30 begrenzt\, wann d’Demande grouss genug ass\, kennen mir awer probéieren nach méi Tickets ze kréien. D’Participatioun (Transport + Ticket) läit bei ongeféier 25€\, dat kann sech awer nach e bessen änneren. \nDir kennt iech ab dem Sonnden\, 5. November em 18h ennert desem Link (www.lsz.lu/event/fussballmatch-liechtenstein-letzebuerg/) umellen. \nD’Umeldungen verlaafen no den APB. \n  \nBis um CtB\, \n  \nÄre Comité \nPlease select a valid form
URL:https://lsz.lu/event/fussballmatch-liechtenstein-letzebuerg/
END:VEVENT
BEGIN:VEVENT
DTSTART;TZID=Europe/Zurich:20231124T080000
DTEND;TZID=Europe/Zurich:20231124T170000
DTSTAMP:20260425T060150
CREATED:20231124T135858Z
LAST-MODIFIED:20231124T135858Z
UID:20908-1700812800-1700845200@lsz.lu
SUMMARY:LSZ goes Fliplab
DESCRIPTION:Den LSZ invitéiert op e klengen Ausfluch an d’Fliplab Zürech! Et ass Zäit fir sech mol eng Kéier e bëssen ze beweegen amplaz sech nëmmen een an d’Rüstung ze réimeren. Key facts: \n– Gratis\n– 30 Plazen\n– Treffen sur place um 17h15\, keen organiséierten Trajet\n– Start ass um 17h30\, mee et gëtt sech nach waarm gemaach\n– Schluss ass um 18h30 \nPlease select a valid form
URL:https://lsz.lu/event/lsz-goes-fliplab/
END:VEVENT
END:VCALENDAR