BEGIN:VCALENDAR
VERSION:2.0
PRODID:-//LSZ - Letzebuerger Studenten zu Zürech - ECPv6.15.20//NONSGML v1.0//EN
CALSCALE:GREGORIAN
METHOD:PUBLISH
X-WR-CALNAME:LSZ - Letzebuerger Studenten zu Zürech
X-ORIGINAL-URL:https://lsz.lu
X-WR-CALDESC:Events for LSZ - Letzebuerger Studenten zu Zürech
REFRESH-INTERVAL;VALUE=DURATION:PT1H
X-Robots-Tag:noindex
X-PUBLISHED-TTL:PT1H
BEGIN:VTIMEZONE
TZID:Europe/Zurich
BEGIN:DAYLIGHT
TZOFFSETFROM:+0100
TZOFFSETTO:+0200
TZNAME:CEST
DTSTART:20220327T010000
END:DAYLIGHT
BEGIN:STANDARD
TZOFFSETFROM:+0200
TZOFFSETTO:+0100
TZNAME:CET
DTSTART:20221030T010000
END:STANDARD
BEGIN:DAYLIGHT
TZOFFSETFROM:+0100
TZOFFSETTO:+0200
TZNAME:CEST
DTSTART:20230326T010000
END:DAYLIGHT
BEGIN:STANDARD
TZOFFSETFROM:+0200
TZOFFSETTO:+0100
TZNAME:CET
DTSTART:20231029T010000
END:STANDARD
BEGIN:DAYLIGHT
TZOFFSETFROM:+0100
TZOFFSETTO:+0200
TZNAME:CEST
DTSTART:20240331T010000
END:DAYLIGHT
BEGIN:STANDARD
TZOFFSETFROM:+0200
TZOFFSETTO:+0100
TZNAME:CET
DTSTART:20241027T010000
END:STANDARD
END:VTIMEZONE
BEGIN:VEVENT
DTSTART;TZID=Europe/Zurich:20230506T080000
DTEND;TZID=Europe/Zurich:20230506T170000
DTSTAMP:20260424T212303
CREATED:20230302T174422Z
LAST-MODIFIED:20230302T174422Z
UID:18978-1683360000-1683392400@lsz.lu
SUMMARY:Sola 2023
DESCRIPTION:Léif Leefer an Leeferinnen\, \nD’Summersemester huet nees ugefaangen an dat bedeit\, dass d’Sola ëmmer méi no réckelt. Bei der Sola handelt et sech em een Staffellaf iwwert 114\,77 km\, opgedeelt an 14. Etappen duerch ganz Zürech. Am ganze lafen 1000 Equipe mat\, wat dann 14000 Leefer sinn. Sidd also bei engem eenzegaartegen an onvergiesslechen Event mat dobäi. Dofir maach är Schong prett\, laaft iech waarm an sidd prett fir d’Sola\, déi den 6. Mäi wäert statt fannen. Den genauen Plang vun den Strecken fann dir hei. \nD’lescht Joer haten mir een risegen Erfolleg\, deen mir des Joer weider toppen wëllen. Vue dass lescht Joer eng grouss Nofro do war\, hunn mir decidéiert\, dëst Joer zwou Equippen un ze mellen. Bei der Enger handelt et sech em eng kompetitiv Equipe wou bäi déi aner Equipe fir den Spaass mat leeft. Dir kënnt iech bis den 29. Abrëll umellen. \nLG\, \nären Comité \n  \nPlease select a valid form
URL:https://lsz.lu/event/sola-2023/
END:VEVENT
BEGIN:VEVENT
DTSTART;TZID=Europe/Zurich:20230508T193000
DTEND;TZID=Europe/Zurich:20230508T233000
DTSTAMP:20260424T212303
CREATED:20230505T072746Z
LAST-MODIFIED:20230505T074828Z
UID:19407-1683574200-1683588600@lsz.lu
SUMMARY:3-Schichten Iessen
DESCRIPTION:Léiwen LSZ’ler\, \nwei schon ugekennegt fennt en Donnesdchen 11. Mee um 19:30 am Restaurant “Spaghetti Pomodoro” (Adresse: Hardstrasse 324\, 8005 Zürich) d’3-Schichten Iessen vum Zürcherbal 2022 statt. Fir dass mir wessen mat weivill Leit mir kenne rechnen bieden mer dech\, dech bis en Meinden den Owend (8.5.23 18:00) unzemellen\, wous du och direkt den Menu muss uginn deen dir gefällt.  \nMir hoffen dech en Donnesden ze gesinn\, \n\nSarah Hoffmann \nPlease select a valid form
URL:https://lsz.lu/event/3-schichten-iessen-4/
LOCATION:Restuarant Spaghetti Pomodoro
END:VEVENT
BEGIN:VEVENT
DTSTART;TZID=Europe/Zurich:20230513T180000
DTEND;TZID=Europe/Zurich:20230514T030000
DTSTAMP:20260424T212303
CREATED:20230402T194909Z
LAST-MODIFIED:20230403T130350Z
UID:19333-1684000800-1684033200@lsz.lu
SUMMARY:SPL 2023 Alumni
DESCRIPTION:Leif Alumnis vum LSZ\, \nFir de Kontakt tëscht den LSZler an den Alumnis weiderhin oprecht ze erhalen\, invitéieren mir Iech ganz häerzlech den 13. Mai op eis traditionell SPL.  \nD’Konzept vun der SPL sollt deenen meeschten nach bekannt sinn: En 3 – Gäng – Menü an enger schicker Ambiance mat\, aus Lëtzebuerg importéiertem\, Wäin a Cremant fir den ETH Professeren ze gedenken déi eis Lëtzebuerger Studenten wärend dem 2. Weltkrich bäi sech opgeholl hunn.  \nDëst ass mat een vun eisen gréissten Eventer am Joer an et géif eis immens freeën eng Rei Alumnis vum LSZ do begréissen ze kënnen. Net nëmmen ass dëst fir eis eng flott Méiglechkeet vun Erfarungen aus der Beruffswelt ze héieren an vun ärer Uniszäit gezielt ze kréien\, mais et ass sécher och fir Iech eng super Alternativ dem LSZ nees méi no ze kommen an gezielt ze kréien\, wat sech alles säit ärer Uniszäit verännert huet.  \nD’SPL fënnt dëst Joer am Haus zum Rüden (https://www.haus-zum-rueden.ch/) statt. Déi genau Adress ass Limmatquai 42\, CH-8001 Zürich. Mir géifen um 18:00 mam Apéro starten. Wei gewinnt gëllt op der SPL d’Tenue correcte. Dir hutt den Choix tëscht 2 Menüen (Fleesch an vegetaresch)\, mei Informatiounen dozou kommen no der Umeldung. D’Participatioun beleet sech op 130€.  \nFalls Dir interesséiert sidd un der SPL deelzehuelen\, géifen mir Iech bieden Iech ab dem 5. Abrëll ab 12:00 hei unzemellen:  \nPlease select a valid form\nD’Platzen (fir d’Alumnien) sinn op 25 Persounen limitéiert\, Dir kënnt Iech bis den 9. Abrëll umellen.  \nBäi Froen kënnt Dir Iech gären bei eis mellen.  \nMir freeën eis Iech rëm op d’SPL kennen ze invitéieren\, an hoffen der vill vun Iech kënnen do ze gesinn.   \nFir de Comité vum LSZ\, \nCédric Delhez (cedric.delhez@lsz.lu) & Till Winzen (till.winzen@lsz.lu) 
URL:https://lsz.lu/event/spl-2023-alumni/
LOCATION:Haus zum Rüden\, Limmatquai 42\, Zürich\, Switzerland
ORGANIZER;CN="LSZ Comite":MAILTO:comite@lsz.lu
END:VEVENT
BEGIN:VEVENT
DTSTART;TZID=Europe/Zurich:20230513T180000
DTEND;TZID=Europe/Zurich:20230514T030000
DTSTAMP:20260424T212303
CREATED:20230411T084018Z
LAST-MODIFIED:20230411T110022Z
UID:19356-1684000800-1684033200@lsz.lu
SUMMARY:SPL 2023
DESCRIPTION:Léif LSZ’ler\, \nMir hunn déi grouss Freed iech den 13. Mee an d’ Haus zum Rüden (https://www.haus-zum-rueden.ch) op d’SPL ze invitéieren. Bei deser SPL weart et nees de Fall sinn\, dass och Alumnien\, also LSZ’ler\, déi virun mei laanger Zäit zu Zürech studéiert hunn\, invitéiert sinn a mat eis e flotten Owend verbréngen wäerten. \nDir hutt den Choix tëscht engem Fleesch – an Vegimenü. Sot eis w.e.g. bei Allergien mat Zäiten Bescheed. \nStart ass um 18:00 mam Apero\, den jenodems wéi d’ Wieder as\, op de wonnerschéiner Terrasse direkt un de Limmat stattfennt. D’Participatioun beleeft sech dëst Joer op 70 Euro. Iwwerweist déi w.e.g. réicht nodeems der vun eis d’Confirmatioun dozou krut. \nDir kënnt och rëm äre Wonschsetzpartner uginn. Schwätzt iech do w.e.g. virdrunner mateneen of. Traditionell ass den Dresscode Owestenue\, dat heescht Costume oder Kleed. \nDenkt och w.e.g. drun\, dass mir nach Wäin hunn\, deen op Zürech muss transportéiert ginn. Mellt Iech dowéinst w.e.g beim Till Winzen\, wann dir vun Lëtzebuerg op Zürech fuert fir e puer Këschten matzebréngen. \nDir kennt iech ab Donneschten\, den 13.4. (18h00) bis den 20.04 (18h00) hei drënner umellen: \nPlease select a valid form\n  \nD’Umeldungen verlafen nom Prioritéitenprinzip aus eisen APB. \nD’Plaze sinn op 80 Persounen begrenzt an bannent de Kategorien vun de Prioritéiten gelt den Prinzip vum “first come first served”. Mellt iech also séier un! \nMir freeën eis riseg iech all rëm kënnen op d’SPL ze invitéieren an hoffen der vill vun iech kennen do ze hunn! \nFir den Comité\, \nTill Winzen (till.winzen@lsz.lu) \nCédric Delhez (cedric.delhez@lsz.lu)
URL:https://lsz.lu/event/spl-2023/
LOCATION:Haus zum Rüden\, Limmatquai 42\, Zürich\, Switzerland
CATEGORIES:SPL
ORGANIZER;CN="LSZ Comite":MAILTO:comite@lsz.lu
END:VEVENT
BEGIN:VEVENT
DTSTART;TZID=Europe/Zurich:20230527T140000
DTEND;TZID=Europe/Zurich:20230527T190000
DTSTAMP:20260424T212303
CREATED:20230516T154326Z
LAST-MODIFIED:20230516T155509Z
UID:19418-1685196000-1685214000@lsz.lu
SUMMARY:Uetliberg Stammdësch
DESCRIPTION:Léif LSZler\,\nGläich ass et endlech sou wäit\, e Samschden\, de 27. Mee gi mir op eisen leschten Stammdësch vun dësem Semester.\nFir déi\, déi sech iwwert de Forms och fir de Stammdësch Uetliberg ugemellt hunn\, starte mir em 14:00 Auer bei der Tramsstatioun Triemli fir erop dofir sidd bitte pünktlech. Et wäert provisoresch bis 19:00 Auer goen.\nEm alles wat d’Häerz begiert këmmere mir eis. Dir kritt awer och nach eppes um Triemli mat\, dass dir eis ënnerwee net dehydratéiert\, also denkt villäicht un en Rucksak.\nBei iergendwelleche Problemer schreift entweder dem Philippe ënnert +352 621152900 oder dem Louise +352 621708638.\nMir freeën eis\,\nLouise\, Marwane a Philippe \nPlease select a valid form
URL:https://lsz.lu/event/uetliberg-stammdesch/
END:VEVENT
END:VCALENDAR