BEGIN:VCALENDAR
VERSION:2.0
PRODID:-//LSZ - Letzebuerger Studenten zu Zürech - ECPv6.15.20//NONSGML v1.0//EN
CALSCALE:GREGORIAN
METHOD:PUBLISH
X-ORIGINAL-URL:https://lsz.lu
X-WR-CALDESC:Events for LSZ - Letzebuerger Studenten zu Zürech
REFRESH-INTERVAL;VALUE=DURATION:PT1H
X-Robots-Tag:noindex
X-PUBLISHED-TTL:PT1H
BEGIN:VTIMEZONE
TZID:Europe/Zurich
BEGIN:DAYLIGHT
TZOFFSETFROM:+0100
TZOFFSETTO:+0200
TZNAME:CEST
DTSTART:20220327T010000
END:DAYLIGHT
BEGIN:STANDARD
TZOFFSETFROM:+0200
TZOFFSETTO:+0100
TZNAME:CET
DTSTART:20221030T010000
END:STANDARD
BEGIN:DAYLIGHT
TZOFFSETFROM:+0100
TZOFFSETTO:+0200
TZNAME:CEST
DTSTART:20230326T010000
END:DAYLIGHT
BEGIN:STANDARD
TZOFFSETFROM:+0200
TZOFFSETTO:+0100
TZNAME:CET
DTSTART:20231029T010000
END:STANDARD
BEGIN:DAYLIGHT
TZOFFSETFROM:+0100
TZOFFSETTO:+0200
TZNAME:CEST
DTSTART:20240331T010000
END:DAYLIGHT
BEGIN:STANDARD
TZOFFSETFROM:+0200
TZOFFSETTO:+0100
TZNAME:CET
DTSTART:20241027T010000
END:STANDARD
END:VTIMEZONE
BEGIN:VEVENT
DTSTART;TZID=Europe/Zurich:20230318T080000
DTEND;TZID=Europe/Zurich:20230318T170000
DTSTAMP:20260424T212723
CREATED:20230306T182750Z
LAST-MODIFIED:20230307T101352Z
UID:19004-1679126400-1679158800@lsz.lu
SUMMARY:Swisscup 2023
DESCRIPTION:Hallo léif Sportler\, \n  \nEch sinn et rëm;) Des kéier mëllen ech mech bei iech fir den Siwsscup fir ze stellen. Dëst Joer ginn mir den Samschden 18.ten Mäerz op Fribourg. Dohannen wäerten mir dann géint den Friblëtz sou wei Lausanne am Basket\, Fussball an Volleyball spillen. Mir hunn hei zwou Coupen ze verdeedegen souwéi 1 Coup zréck ze gewannen. Lëscht Joer sinn mir nämlech Meeschter am Basket sou wéi am Fussball ginn:) \n  \nPlease select a valid form
URL:https://lsz.lu/event/swisscup-2023/
END:VEVENT
END:VCALENDAR