BEGIN:VCALENDAR
VERSION:2.0
PRODID:-//LSZ - Letzebuerger Studenten zu Zürech - ECPv6.15.20//NONSGML v1.0//EN
CALSCALE:GREGORIAN
METHOD:PUBLISH
X-WR-CALNAME:LSZ - Letzebuerger Studenten zu Zürech
X-ORIGINAL-URL:https://lsz.lu
X-WR-CALDESC:Events for LSZ - Letzebuerger Studenten zu Zürech
REFRESH-INTERVAL;VALUE=DURATION:PT1H
X-Robots-Tag:noindex
X-PUBLISHED-TTL:PT1H
BEGIN:VTIMEZONE
TZID:Europe/Zurich
BEGIN:DAYLIGHT
TZOFFSETFROM:+0100
TZOFFSETTO:+0200
TZNAME:CEST
DTSTART:20210328T010000
END:DAYLIGHT
BEGIN:STANDARD
TZOFFSETFROM:+0200
TZOFFSETTO:+0100
TZNAME:CET
DTSTART:20211031T010000
END:STANDARD
BEGIN:DAYLIGHT
TZOFFSETFROM:+0100
TZOFFSETTO:+0200
TZNAME:CEST
DTSTART:20220327T010000
END:DAYLIGHT
BEGIN:STANDARD
TZOFFSETFROM:+0200
TZOFFSETTO:+0100
TZNAME:CET
DTSTART:20221030T010000
END:STANDARD
BEGIN:DAYLIGHT
TZOFFSETFROM:+0100
TZOFFSETTO:+0200
TZNAME:CEST
DTSTART:20230326T010000
END:DAYLIGHT
BEGIN:STANDARD
TZOFFSETFROM:+0200
TZOFFSETTO:+0100
TZNAME:CET
DTSTART:20231029T010000
END:STANDARD
END:VTIMEZONE
BEGIN:VEVENT
DTSTART;VALUE=DATE:20220304
DTEND;VALUE=DATE:20220307
DTSTAMP:20260424T213237
CREATED:20220115T210206Z
LAST-MODIFIED:20220119T155307Z
UID:16776-1646352000-1646611199@lsz.lu
SUMMARY:Wantersportweekend 2022
DESCRIPTION:Léif LSZler\,  \net gëtt lues a lues Zäit seng holzen Brieder ze preparéieren\, well vum 4. bis 6. Mäerz  geet den LSZ nees an d’Bierger a jauft zesummen d’Pisten erof a Richtung Apres – Ski.   \nDëst Joer geet et an d’Skigebitt Andermatt – Sedrun – Disentis\, wou mir de Chalet Rheinquelle ganz vir eis eleng gelount hunn. Méi Informatiounen dozou fannt dir ënnert folgende Links: \nLink Skigebitt: https://www.andermatt-sedrun-disentis.ch/de/ \nLink Chalet: https://www.ferienzentrum-rheinquelle.ch \nWei den Numm et scho verréit\, soll et sech dëst Joer net nëmmen em d’Skifueren dréien\, mee och déi manner skibegeeschtert ënnert iech wäerten op hier Käschte kommen\, sief et beim Schlittfueren\, Wanderen\, Schlittschongfueren oder vir einfach eng flott Zäit zesummen ze verbréngen. Gitt aus dësem Grond an der Umeldung un op dir en Skipass braucht oder net.  \nDen Depart mam Bus ass geplangt Freides  den 04.03 am fréien Moien um Campus Hönggerberg a mer wäerte Sonndes de 06.03 géinter Owend rëm zu Zürich sinn. Genau Informatiounen zum Depart a Retour kritt dir zu engem méi spéideren Zäitpunkt. \nD’Participatioun läit dëst Joer bei  250€ fir déi wou Skifueren. An deem Präis mat abegraff ass den Transport hin an zeréck\, de Skipass\, de Chalet vir 2 Nueten\, souwéi d’Moies – an Owesiessen. Vir déi aner (Net – Skifuerer) läit den Präis bei 150€\, inclus sinn déi selwecht schon obgenannte Saachen\, just ouni Skipass.    \nD’Allgemeng Participatiounsbedingungen wäerten vir den Wantersportweekend mat folgenden Ännerungen ugewandt ginn:  \n\nUmeldung: Beim Deel 2. Umeldung vun den APB  wäerten am Prioritéitenprinzip d’Punkten 2 an 3 net gëllen. Deementspriechend ass d‘Reihenfolg vun de Prioritéiten wei folgend : \n\nComitésmemberen\nAktiv Memberen\nPassiv Memberen\nExterner\n\n\nOfmeldung: Am Fall vun enger Ofmeldung wäert een mussen 150€ bezuelen\, et sief dann\, et fënnt een op eegen Hand en Ersatz falls et keng Waardelëscht gëtt. \n\nDen Wantersportweekend ass en 2G+ Event. Et muss een also geboostert sinn oder en zerifizéierten Test (Schnelltest oder PCR) virweisen kennen\, falls déi läscht Impfung méi wéi 6 Méint hier ass. Och wann ee schon geboostert ass\, wäere mir frou wann dir am Viraus ee Schnelltest géingt maachen. Mir wäerten och virum Bus Schnelltester zur Verfügung stellen. Denkt drun ären Zertifikat um Wantersportweekend iwwerall derbäi ze hunn. \nDir kennt iech ab dem 19.01 (18:00) bis den 02.02 (18:00) hei umellen: \n Please select a valid form \nD’Platze fir de Wantersportweekend sinn op 30 Persoune limitéiert\, macht Iech also schnell bäi. \nEréischt no der Umeldungsperiod kritt dir vun eis Bescheed gesot ob dir definitiv kennt mat goen. Ass dëst de Fall\, bieden mir iech ab deem Zäitpunkt är Participatioun ze bezuelen\, entweder per Digicash un d’Nummer 0041764971286 oder un d’Kontosnummer LU34 0019 2955 4503 3000. Spéider Umeldunge sinn och méiglech\, eventuell musst du dann awer domat rechnen op der Waardelëscht ze landen. \nBei Froen kennt dir iech bei den Responsables vum Wantersportweekend mellen: Fanny Goy (fanny@lsz.lu); Felix Schoellen (felix.schoellen@lsz.lu); Nicolas Thill (nicolas@lsz.lu) a Sacha Thill (sacha@lsz.lu). \nMir freeën eis op ee flotte Weekend! \nde Comité
URL:https://lsz.lu/event/wantersportweekend-2022/
ORGANIZER;CN="LSZ Comite":MAILTO:comite@lsz.lu
END:VEVENT
END:VCALENDAR