BEGIN:VCALENDAR
VERSION:2.0
PRODID:-//LSZ - Letzebuerger Studenten zu Zürech - ECPv6.15.20//NONSGML v1.0//EN
CALSCALE:GREGORIAN
METHOD:PUBLISH
X-ORIGINAL-URL:https://lsz.lu
X-WR-CALDESC:Events for LSZ - Letzebuerger Studenten zu Zürech
REFRESH-INTERVAL;VALUE=DURATION:PT1H
X-Robots-Tag:noindex
X-PUBLISHED-TTL:PT1H
BEGIN:VTIMEZONE
TZID:Europe/Zurich
BEGIN:DAYLIGHT
TZOFFSETFROM:+0100
TZOFFSETTO:+0200
TZNAME:CEST
DTSTART:20200329T010000
END:DAYLIGHT
BEGIN:STANDARD
TZOFFSETFROM:+0200
TZOFFSETTO:+0100
TZNAME:CET
DTSTART:20201025T010000
END:STANDARD
BEGIN:DAYLIGHT
TZOFFSETFROM:+0100
TZOFFSETTO:+0200
TZNAME:CEST
DTSTART:20210328T010000
END:DAYLIGHT
BEGIN:STANDARD
TZOFFSETFROM:+0200
TZOFFSETTO:+0100
TZNAME:CET
DTSTART:20211031T010000
END:STANDARD
BEGIN:DAYLIGHT
TZOFFSETFROM:+0100
TZOFFSETTO:+0200
TZNAME:CEST
DTSTART:20220327T010000
END:DAYLIGHT
BEGIN:STANDARD
TZOFFSETFROM:+0200
TZOFFSETTO:+0100
TZNAME:CET
DTSTART:20221030T010000
END:STANDARD
END:VTIMEZONE
BEGIN:VEVENT
DTSTART;TZID=Europe/Zurich:20211204T190000
DTEND;TZID=Europe/Zurich:20211204T230000
DTSTAMP:20260424T230525
CREATED:20211110T213343Z
LAST-MODIFIED:20211110T213558Z
UID:16653-1638644400-1638658800@lsz.lu
SUMMARY:3-Schichten Iessen
DESCRIPTION:Léiwen LSZ’ler \nNet eng\, net zwou mee dréi Schichten hues du läscht Joer um Zürcher Bal geschafft an hues dir domadder net nëmmen d’Dankbarkeet vum gesamte LSZ\, mee och een Iesse verdéngt. \nDëst fënnt den 04. Dezember um 19:00 an der Commihalle statt. Um Menü steet ee Pasta-Plausch.\nD’Iesse wéi och d’Gedrénks ginn op den LSZ. \nWann s du dir dat net wëlls entgoe loossen\, mell dech bis spéitstens nächste Samschden de 20. November un. Falls du net um Iesse kanns deel huelen\, mell dech w.e.g ënnert deem nämmlechte Link of. Bei Froe stinn ech gären zur Verfügung. \nBis hoffentlech den 04. Dezember.\nFir den Comité\, \nChristine \nPlease select a valid form
URL:https://lsz.lu/event/3-schichten-iessen-3/
LOCATION:Commihalle\, Stampfenbachstrasse 8\, Zürich\, 8001\, Switzerland
ORGANIZER;CN="LSZ Comite":MAILTO:comite@lsz.lu
END:VEVENT
BEGIN:VEVENT
DTSTART;TZID=Europe/Zurich:20211210T180000
DTEND;TZID=Europe/Zurich:20211210T220000
DTSTAMP:20260424T230525
CREATED:20211129T131559Z
LAST-MODIFIED:20211130T162343Z
UID:16747-1639159200-1639173600@lsz.lu
SUMMARY:LSZ Schlittschong 2021
DESCRIPTION:  \nHo ho ho\, \nNodeems ech lescht Joer perséinlech bei Iech heem koum\, hunn ech mir dëst Joer afale gelooss\, mat Iech den 10. Dezember um 18:00 direkt op der Schlittschongpiste um Dolder een flotten Owend ze verbréngen\, an duerno zesummen op den Chrëschtmaart eppes iessen an drénken zegoen!\nEch suergen dëst Joer net nemmen vir Glühwäin\, mais natierlech hunn ech och d‘Stongen vir d‘Belounungen um Zürcher Bal 2021 rëmfonnt\, déi ech well un Iech verdeelen an ären Asaatz bis elo belounen!\nBezüglech Transport: Déi Leit dei en Auto zur Verfügung hunn\, an domat bis op den Dolder fueren wellen\, ginn vum LSZ rembourséiert wann se an engem Auto mat min. 4 LSZler kommen. Gidd doweinst an der Umellung un op dir en Auto zur Verfügung stellt\, oder op dir mat engem mam Auto matfuert respektiv matfueren wellt. Kommt laanscht wann dir en flotten Owend mat mir an mengem gudden Kolleeg\, dem Schmutzli\, wëllt verbréngen. Ech freeën mech op Iech! \nDe Kleeschen\nan enker Zesummenaarbecht mam Comité vum LSZ \nPlease select a valid form
URL:https://lsz.lu/event/schlittschong-2021/
LOCATION:Dolder Kunsteisbahn\, Adlisbergstrasse 36\, Zürich\, Zurich\, 8044\, Switzerland
END:VEVENT
END:VCALENDAR