BEGIN:VCALENDAR
VERSION:2.0
PRODID:-//LSZ - Letzebuerger Studenten zu Zürech - ECPv6.15.20//NONSGML v1.0//EN
CALSCALE:GREGORIAN
METHOD:PUBLISH
X-ORIGINAL-URL:https://lsz.lu
X-WR-CALDESC:Events for LSZ - Letzebuerger Studenten zu Zürech
REFRESH-INTERVAL;VALUE=DURATION:PT1H
X-Robots-Tag:noindex
X-PUBLISHED-TTL:PT1H
BEGIN:VTIMEZONE
TZID:Europe/Zurich
BEGIN:DAYLIGHT
TZOFFSETFROM:+0100
TZOFFSETTO:+0200
TZNAME:CEST
DTSTART:20200329T010000
END:DAYLIGHT
BEGIN:STANDARD
TZOFFSETFROM:+0200
TZOFFSETTO:+0100
TZNAME:CET
DTSTART:20201025T010000
END:STANDARD
BEGIN:DAYLIGHT
TZOFFSETFROM:+0100
TZOFFSETTO:+0200
TZNAME:CEST
DTSTART:20210328T010000
END:DAYLIGHT
BEGIN:STANDARD
TZOFFSETFROM:+0200
TZOFFSETTO:+0100
TZNAME:CET
DTSTART:20211031T010000
END:STANDARD
BEGIN:DAYLIGHT
TZOFFSETFROM:+0100
TZOFFSETTO:+0200
TZNAME:CEST
DTSTART:20220327T010000
END:DAYLIGHT
BEGIN:STANDARD
TZOFFSETFROM:+0200
TZOFFSETTO:+0100
TZNAME:CET
DTSTART:20221030T010000
END:STANDARD
END:VTIMEZONE
BEGIN:VEVENT
DTSTART;TZID=Europe/Zurich:20210603T180000
DTEND;TZID=Europe/Zurich:20210603T233000
DTSTAMP:20260425T004230
CREATED:20210523T212646Z
LAST-MODIFIED:20210601T125928Z
UID:15564-1622743200-1622763000@lsz.lu
SUMMARY:Beerpong an Semesterofschloss
DESCRIPTION:Léif LSZ’ler\, \nlues a lues gëtt et Zäit déi nei Beerpongchampions vir d’Joer 2021 ze kréinen an vir em dësen Titel ze kämpfen soll natierlech keen vun iech feelen!🏆 \nDowéinst sidd dir all agelueden Donneschdes den 3. Juni um Beerpongsturneier op der grousser Grillplatz Vitaparcours Zürich Käferberg (via Google Maps fannt dir d’Grillplatz zimmlech einfach) deelzehuelen. Umellen kennt dir iech bis en Desnchden Owend (01.06) hei: \nPlease select a valid form\nVu dass den 3. Juni den zweetleschten Dag vum Semester ass\, ass dëst eng super Geleeënheet d’Semesterenn zesummen ze verbrengen. Mir wäerten soumat net nemmen nei Beerpongchamps kréinen mais och zesummen op dat vergaangent Semester ustoussen an dat net nëmmen bei guddem Gegrills a fäinem Béier🍺\, mais och mat top Wäin🍷\, a gäilen Cocktail(s)🍹\, well ween kann schon engem gudden Züri Long Island widerstoen🤤 Et lount sech definitiv laanscht ze kommen! \nMéi Informatiounen kommen nach no!  \nBis dann\, \nde Comité
URL:https://lsz.lu/event/beerpong-an-semesterofschloss/
ORGANIZER;CN="LSZ Comite":MAILTO:comite@lsz.lu
END:VEVENT
END:VCALENDAR