BEGIN:VCALENDAR
VERSION:2.0
PRODID:-//LSZ - Letzebuerger Studenten zu Zürech - ECPv5.8.1//NONSGML v1.0//EN
CALSCALE:GREGORIAN
METHOD:PUBLISH
X-WR-CALNAME:LSZ - Letzebuerger Studenten zu Zürech
X-ORIGINAL-URL:https://lsz.lu
X-WR-CALDESC:Events for LSZ - Letzebuerger Studenten zu Zürech
BEGIN:VTIMEZONE
TZID:Europe/Zurich
BEGIN:DAYLIGHT
TZOFFSETFROM:+0100
TZOFFSETTO:+0200
TZNAME:CEST
DTSTART:20200329T010000
END:DAYLIGHT
BEGIN:STANDARD
TZOFFSETFROM:+0200
TZOFFSETTO:+0100
TZNAME:CET
DTSTART:20201025T010000
END:STANDARD
END:VTIMEZONE
BEGIN:VEVENT
DTSTART;TZID=Europe/Zurich:20201201T170000
DTEND;TZID=Europe/Zurich:20201201T183000
DTSTAMP:20210722T185237
CREATED:20201125T083902Z
LAST-MODIFIED:20201125T084039Z
UID:14523-1606842000-1606847400@lsz.lu
SUMMARY:Visite en ligne - CDCL
DESCRIPTION:Léiw LSZler\, \nden 1. Dezember\, dat heescht nächsten Dënschden\, um 5 Auer\, hält d’CDCL\, d’Compagnie De Construction Luxembourgeoise\, een vun eisen wichtegsten Sponsoren\, dem LSZ eng Präsentatioun op Teams wou si sech virstellen an mer Froen kënnen stellen. \nCDCL \nGegrënnt 1979 vun zwee ETH alumni\, ass d’CDCL mat ronn 500 Employéen een groussen Acteur am Konstruktiounssecteur zu Lëtzebuerg. Mat enger breetgefächerter Panoplie un Projeten\, dorënner ënnert anerem den vertikal link am Pafendall\, den Athenée an den Luxembourg Kongress Center\, ass d’CDCL aktiv an sou gutt wéi all Domaine vun der Bauingenieurie. \nMotivatioun \nOch wann dës Présentatioun am interessantsten fir eis Bau- an Maschinnebauingenieuren ass. Zéckt net fir trotzdeem nozelauschteren an eppes iwwert een vun deenen wichtegsten Secteuren zu Lëtzebuerg ze leieren. Den Mr. Luc Didier\, deen d’Presentatioun halen wäert\, war bis virun véier Joer nach selwer op der ETH an kann ierch soumat och all är Froen iwwert d’Transitioun an d’Beruffswelt\, souwéi seng takeaways vum Studium beäntwerten. Speziell fir eis rezent Bleuen\, déi lo stolz LSZler sinn\, ass dëst\, trotz dem digitalen Charakter\, eng immens flott éischt Firmenvisite. Et ass wichteg\, dass mer eisen Sponsoren nolauschteren an present sinn\, ouni hiren Support wär eisen Club\, speziell dëst Joer\, net méiglech. \nTeams \nOch wann der nach ni virdrun Microsoft Teams benotzt hutt\, kënnt der einfach ouni Account oder Software direkt duerch den Browser der Sessioun joinen. Dëst funktionéiert allerdéngs nëmmen op Chrome\, Safari an Edge. Hei den Link:  https://teams.microsoft.com/l/meetup-join/19%3ameeting_ZjFmNTE4ZDItZmUyYy00MmEyLWIyMjEtZjczMWVlMDgwZTcy%40thread.v2/0?context=%7b%22Tid%22%3a%22ae013cbc-082f-4988-a54b-75a2851811f2%22%2c%22Oid%22%3a%226e71c7fc-61a8-4ca3-916a-eada5a990ed9%22%7d
URL:https://lsz.lu/event/visite-en-ligne-cdcl/
LOCATION:Microsoft Teams
ORGANIZER;CN="LSZ%20Comite":MAILTO:comite@lsz.lu
END:VEVENT
BEGIN:VEVENT
DTSTART;TZID=Europe/Zurich:20201205T190000
DTEND;TZID=Europe/Zurich:20201205T230000
DTSTAMP:20210722T185237
CREATED:20201118T143823Z
LAST-MODIFIED:20201118T180402Z
UID:14511-1607194800-1607209200@lsz.lu
SUMMARY:Kleeschen
DESCRIPTION:L̶é̶i̶f̶ ̶L̶S̶Z̶’̶l̶e̶r̶\,̶ ̶ ̶\nL̶e̶i̶d̶e̶r̶ ̶m̶u̶s̶s̶e̶n̶ ̶m̶e̶r̶ ̶*̶i̶n̶s̶e̶r̶t̶ ̶E̶v̶e̶n̶t̶*̶ ̶w̶é̶i̶n̶s̶t̶ ̶d̶e̶r̶ ̶a̶k̶t̶u̶e̶l̶l̶e̶r̶ ̶S̶i̶t̶u̶a̶t̶i̶o̶u̶n̶ ̶o̶f̶s̶o̶e̶n̶\,̶ ̶e̶t̶ ̶a̶s̶s̶ ̶l̶e̶i̶d̶e̶r̶ ̶.̶.̶.̶ \nNee\, haut zielen mer iech léiwer d’Geschicht vum Kleeschen: Deen huet sech en ganzt Joer drop gefreet fir endlech mol rëm bei den LSZ ze kommen\, en gudden Béier ze drénken an mat sengem Kolleg\, dem Houseker en flotten Owend ze verbréngen. Déi Freed wollt en sech natierlech net huelen loossen an huet sech mam Houseker zesummegesat an sech eppes afalen gelooss; mat Corona war déi ganz Saach awer net sou einfach :/ Wei kann en dann all seng brav LSZ’ler gesinn\, ouni Unstiechungen? Ganz einfach an op déi traditionell Art an Weis\, den Kleeschen kennt einfach bei d’LSZ’ler heem an bréngt do seng Kadoen mat. Séier den Schlitt géint en schnëttegen Polo getosch\, den Béier an Schockela agelueden an schon huet en sech op den Wee gemaach. Momentan ass en nach ënnerwee am héichen Norden\, mee mer sollen iech folgendes soen: \n-Hien fänkt säin Tour am Owend vum 5.12 un\n-D’LSZ’ler sollen sech an klengen Gruppen (4-5 Leit) bei engem doheem treffen\n-Jiddereen kritt dann säin Kado laanschtbruecht (Schockela\, Mandarinnen\, Nëss\, Glühwäin an vläicht och eng Rutt!)\n-Pro WG gëtt et en Kajot Béier als Kado (gitt em w.e.g. 11CHF fir den Pfand mat)\n-Fir dass och jiddereen weess wou den Kleeschen grad drun ass gëtt et en Spill/Quizowend iwwert Zoom mat Livestream direkt vum Schlitt\n-Sot dem Kleeschen och w.e.g. Bescheed wou der wunnt\, hien kënnt nëmmen den Café Schlauch an d’Alumni Lounge zu Zürich :/ \nFir den Kleeschen an den Houseker\,\nBischti & Eric \nYou do not have permission to view this form.
URL:https://lsz.lu/event/kleeschen/
LOCATION:Zürich/Virtuell
CATEGORIES:Event,Member
ORGANIZER;CN="LSZ%20Comite":MAILTO:comite@lsz.lu
END:VEVENT
BEGIN:VEVENT
DTSTART;VALUE=DATE:20201211
DTEND;VALUE=DATE:20201212
DTSTAMP:20210722T185237
CREATED:20201128T193335Z
LAST-MODIFIED:20201128T193844Z
UID:14034-1607644800-1607731199@lsz.lu
SUMMARY:3-Schichten-Iessen
DESCRIPTION:Léiwen LSZ’ler \nNet eng\, net zwou mee dréi Schichten hues du läscht Joer um Zürcher Bal geschafft an hues dir domadder net nëmmen d’Dankbarkeet vum gesamte LSZ\, mee och een Iesse verdéngt.\nDëst fënnt den 11. Dezember um 19:00 an der Commihalle statt. Um Menü steet ee Pasta-Plausch.\nD’Iesse wéi och d’Gedrénks ginn op den LSZ.\nNatierlech wäert dat ganzt Iessen an eisen Openthalt am Restaurant Corona gerecht stattfannen. Mir wäerten op laangen Descher setzen\, déi mat “stillvollen” Glastrennwänn ofgetrennt sinn\, soudass d’maximal Dëschbesetzung vun 4 Léit net iwwerschratt gëtt\, mir awer trotzdeem alleguerten zesumme féiere kënnen.\nWann s du dir dat net wëlls entgoe loossen\, mell dech bis spéitstens nächste Samschden de 5. Dezember un. Falls du net um Iesse kanns deel huelen\, mell dech w.e.g ënnert deem nämmlechte Link of. Bei Froe stinn ech gären zur Verfügung. \nBis speitens den 11. Dezember.\nFir den Comité\, \nChristine \n\n\n\n\n3-Schichten Iessen\n\n\n\n\n\n\n\n\n    Virnumm\n        *\n    \n    \n    \n    \n\n\n    Nonumm\n        *\n    \n    \n    \n    \n\n\n    Email\n        *\n    \n    \n    \n    \n\n\n    Telefon\n        *\n    \n    \n    \n    \n\n\n    Kënns du op d'3-Schichteniessen ?\n        *\n    \n    				 Jo\n				 Nee\n\n    \n    \n\n\n    Kommentar (Allergien\, Intoleranzen\, etc)\n        \n    \n    \n    \n    \n\n	\n	\n\nSubmit\n\n\n\n\n\n\n\n 
URL:https://lsz.lu/event/3-schichten-iessen-2/
ORGANIZER;CN="LSZ%20Comite":MAILTO:comite@lsz.lu
END:VEVENT
END:VCALENDAR