BEGIN:VCALENDAR
VERSION:2.0
PRODID:-//LSZ - Letzebuerger Studenten zu Zürech - ECPv6.15.20//NONSGML v1.0//EN
CALSCALE:GREGORIAN
METHOD:PUBLISH
X-WR-CALNAME:LSZ - Letzebuerger Studenten zu Zürech
X-ORIGINAL-URL:https://lsz.lu
X-WR-CALDESC:Events for LSZ - Letzebuerger Studenten zu Zürech
REFRESH-INTERVAL;VALUE=DURATION:PT1H
X-Robots-Tag:noindex
X-PUBLISHED-TTL:PT1H
BEGIN:VTIMEZONE
TZID:Europe/Zurich
BEGIN:DAYLIGHT
TZOFFSETFROM:+0100
TZOFFSETTO:+0200
TZNAME:CEST
DTSTART:20190331T010000
END:DAYLIGHT
BEGIN:STANDARD
TZOFFSETFROM:+0200
TZOFFSETTO:+0100
TZNAME:CET
DTSTART:20191027T010000
END:STANDARD
BEGIN:DAYLIGHT
TZOFFSETFROM:+0100
TZOFFSETTO:+0200
TZNAME:CEST
DTSTART:20200329T010000
END:DAYLIGHT
BEGIN:STANDARD
TZOFFSETFROM:+0200
TZOFFSETTO:+0100
TZNAME:CET
DTSTART:20201025T010000
END:STANDARD
BEGIN:DAYLIGHT
TZOFFSETFROM:+0100
TZOFFSETTO:+0200
TZNAME:CEST
DTSTART:20210328T010000
END:DAYLIGHT
BEGIN:STANDARD
TZOFFSETFROM:+0200
TZOFFSETTO:+0100
TZNAME:CET
DTSTART:20211031T010000
END:STANDARD
END:VTIMEZONE
BEGIN:VEVENT
DTSTART;TZID=Europe/Zurich:20201022T183000
DTEND;TZID=Europe/Zurich:20201022T233000
DTSTAMP:20260424T195122
CREATED:20201009T120317Z
LAST-MODIFIED:20201009T120629Z
UID:13905-1603391400-1603409400@lsz.lu
SUMMARY:Beerpong
DESCRIPTION:Et ass erem Zäit fir en legendären Owend fir d‘fro ze klären: Weieeng 2 LSZ‘ler sinn d’BeerPong Kings 2020?\nWann och Dir wëllt bei eisem Tournoi matmaachen dann mellt Iech hei an desem Forms un. D‘Plazen sinn limitéiert also maacht iech bei! Iwwerleet iech en originellen Teamnumm\, dat kéint iech en klengen Preis abrengen. \n  \n  \nPlease select a valid form
URL:https://lsz.lu/event/beerpong/
LOCATION:GZ Höngg\, Limmattalstrasse 214\, Zürich\, Zurich\, 8049\, Switzerland
CATEGORIES:Event,Member
ORGANIZER;CN="LSZ Comite":MAILTO:comite@lsz.lu
END:VEVENT
BEGIN:VEVENT
DTSTART;TZID=Europe/Zurich:20201030T180000
DTEND;TZID=Europe/Zurich:20201030T230000
DTSTAMP:20260424T195122
CREATED:20201016T065331Z
LAST-MODIFIED:20201020T152616Z
UID:13951-1604080800-1604098800@lsz.lu
SUMMARY:Stammdësch
DESCRIPTION:Duerch déi aktuell Situatioun sinn mer gezwongen den Stammdësch bessen manner spontan ze organiseieren\, dowéinst wieren mer frou wanns de dech hei kiins unmellen 😉 \nWei emmer iwwerhellt den LSZ déi éischt puer Ronnen\, mir freen eis schon drop! \n  \nPlease select a valid form
URL:https://lsz.lu/event/stammdesch/
LOCATION:Aya Bar\, Hardstrasse 260\, Zürich\, Zurich\, 8005\, Switzerland
ORGANIZER;CN="LSZ Comite":MAILTO:comite@lsz.lu
END:VEVENT
END:VCALENDAR