BEGIN:VCALENDAR
VERSION:2.0
PRODID:-//LSZ - Letzebuerger Studenten zu Zürech - ECPv6.15.20//NONSGML v1.0//EN
CALSCALE:GREGORIAN
METHOD:PUBLISH
X-ORIGINAL-URL:https://lsz.lu
X-WR-CALDESC:Events for LSZ - Letzebuerger Studenten zu Zürech
REFRESH-INTERVAL;VALUE=DURATION:PT1H
X-Robots-Tag:noindex
X-PUBLISHED-TTL:PT1H
BEGIN:VTIMEZONE
TZID:Europe/Zurich
BEGIN:DAYLIGHT
TZOFFSETFROM:+0100
TZOFFSETTO:+0200
TZNAME:CEST
DTSTART:20190331T010000
END:DAYLIGHT
BEGIN:STANDARD
TZOFFSETFROM:+0200
TZOFFSETTO:+0100
TZNAME:CET
DTSTART:20191027T010000
END:STANDARD
BEGIN:DAYLIGHT
TZOFFSETFROM:+0100
TZOFFSETTO:+0200
TZNAME:CEST
DTSTART:20200329T010000
END:DAYLIGHT
BEGIN:STANDARD
TZOFFSETFROM:+0200
TZOFFSETTO:+0100
TZNAME:CET
DTSTART:20201025T010000
END:STANDARD
BEGIN:DAYLIGHT
TZOFFSETFROM:+0100
TZOFFSETTO:+0200
TZNAME:CEST
DTSTART:20210328T010000
END:DAYLIGHT
BEGIN:STANDARD
TZOFFSETFROM:+0200
TZOFFSETTO:+0100
TZNAME:CET
DTSTART:20211031T010000
END:STANDARD
END:VTIMEZONE
BEGIN:VEVENT
DTSTART;TZID=Europe/Zurich:20200422T190000
DTEND;TZID=Europe/Zurich:20200422T230000
DTSTAMP:20260425T055814
CREATED:20200311T101813Z
LAST-MODIFIED:20200311T102115Z
UID:13729-1587582000-1587596400@lsz.lu
SUMMARY:3-Schichten Iessen
DESCRIPTION:Du hues dest Joer um Zürcher Bal 3-Schichten geschafft. Fir deen Owend\, wous du hues misse schaffen\, an dei aaner sech amuseiert hun rem wett ze maachen\, feiere mir elo zesummen d’3-Schichten Iessen.\nDëst fënnt dest Joer den 22. Abrell an der Comihalle statt\, an et wärt en Pasta-Plausch ginn mat enger Boule Glace. Falls du eng bestemmten Allergie hues an wanns du doduerch keng Nuddelen kanns iessen\, so eis bescheed. Wanns du wells matkommen\, mell dech weg bis den Mettwoch\, den 08. Abrell un. Falls du net kanns matkommen\, mell dech weg of. \n  \nPlease select a valid form
URL:https://lsz.lu/event/3-schichten-iessen/
LOCATION:Commihalle\, Stampfenbachstrasse 8\, Zürich\, 8001\, Switzerland
ORGANIZER;CN="LSZ Comite":MAILTO:comite@lsz.lu
END:VEVENT
END:VCALENDAR