BEGIN:VCALENDAR
VERSION:2.0
PRODID:-//LSZ - Letzebuerger Studenten zu Zürech - ECPv6.15.20//NONSGML v1.0//EN
CALSCALE:GREGORIAN
METHOD:PUBLISH
X-WR-CALNAME:LSZ - Letzebuerger Studenten zu Zürech
X-ORIGINAL-URL:https://lsz.lu
X-WR-CALDESC:Events for LSZ - Letzebuerger Studenten zu Zürech
REFRESH-INTERVAL;VALUE=DURATION:PT1H
X-Robots-Tag:noindex
X-PUBLISHED-TTL:PT1H
BEGIN:VTIMEZONE
TZID:Europe/Zurich
BEGIN:DAYLIGHT
TZOFFSETFROM:+0100
TZOFFSETTO:+0200
TZNAME:CEST
DTSTART:20250330T010000
END:DAYLIGHT
BEGIN:STANDARD
TZOFFSETFROM:+0200
TZOFFSETTO:+0100
TZNAME:CET
DTSTART:20251026T010000
END:STANDARD
BEGIN:DAYLIGHT
TZOFFSETFROM:+0100
TZOFFSETTO:+0200
TZNAME:CEST
DTSTART:20260329T010000
END:DAYLIGHT
BEGIN:STANDARD
TZOFFSETFROM:+0200
TZOFFSETTO:+0100
TZNAME:CET
DTSTART:20261025T010000
END:STANDARD
BEGIN:DAYLIGHT
TZOFFSETFROM:+0100
TZOFFSETTO:+0200
TZNAME:CEST
DTSTART:20270328T010000
END:DAYLIGHT
BEGIN:STANDARD
TZOFFSETFROM:+0200
TZOFFSETTO:+0100
TZNAME:CET
DTSTART:20271031T010000
END:STANDARD
END:VTIMEZONE
BEGIN:VEVENT
DTSTART;TZID=Europe/Zurich:20260516T080000
DTEND;TZID=Europe/Zurich:20260516T180000
DTSTAMP:20260425T184256
CREATED:20260417T204201Z
LAST-MODIFIED:20260417T204201Z
UID:24250-1778918400-1778954400@lsz.lu
SUMMARY:SOLA 2026
DESCRIPTION:Léif Leefer a  Leeferinnen\, \nGeschwënn ass et rëm sou weit an den LSZ kann sech op der Édition 2026 vun der SOLA beweisen! Bei der Sola handelt et sech em e Staffellaf vum ASVZ iwwert 114\,77km\, opgedeelt a 14 Etappen\, den duerch ganz Zürech geet. Dat ganzt fënnt Samsdes de 16.05 statt. Wéi och d’lescht Joer ginn et zwou Gruppe fir d’Staffel. Eng Equipe ass kompetitiv an déi aner ass Just for Fun! Mellt iech fir déi Equipe an déi Streck un\, déi der lafe wëllt a schreift är 5km ann/oder 10km Beschtzäit dobäi! \nËnnert dësem Link fann der all d’Informatiounen iwwer d’SOLA. \nhttps://asvz.ch/event/412-sola-stafette \nDu muss dech alogge fir de Forms auszefëllen
URL:https://lsz.lu/event/sola-2026/
END:VEVENT
END:VCALENDAR