BEGIN:VCALENDAR
VERSION:2.0
PRODID:-//LSZ - Letzebuerger Studenten zu Zürech - ECPv6.15.20//NONSGML v1.0//EN
CALSCALE:GREGORIAN
METHOD:PUBLISH
X-WR-CALNAME:LSZ - Letzebuerger Studenten zu Zürech
X-ORIGINAL-URL:https://lsz.lu
X-WR-CALDESC:Events for LSZ - Letzebuerger Studenten zu Zürech
REFRESH-INTERVAL;VALUE=DURATION:PT1H
X-Robots-Tag:noindex
X-PUBLISHED-TTL:PT1H
BEGIN:VTIMEZONE
TZID:Europe/Zurich
BEGIN:DAYLIGHT
TZOFFSETFROM:+0100
TZOFFSETTO:+0200
TZNAME:CEST
DTSTART:20230326T010000
END:DAYLIGHT
BEGIN:STANDARD
TZOFFSETFROM:+0200
TZOFFSETTO:+0100
TZNAME:CET
DTSTART:20231029T010000
END:STANDARD
BEGIN:DAYLIGHT
TZOFFSETFROM:+0100
TZOFFSETTO:+0200
TZNAME:CEST
DTSTART:20240331T010000
END:DAYLIGHT
BEGIN:STANDARD
TZOFFSETFROM:+0200
TZOFFSETTO:+0100
TZNAME:CET
DTSTART:20241027T010000
END:STANDARD
BEGIN:DAYLIGHT
TZOFFSETFROM:+0100
TZOFFSETTO:+0200
TZNAME:CEST
DTSTART:20250330T010000
END:DAYLIGHT
BEGIN:STANDARD
TZOFFSETFROM:+0200
TZOFFSETTO:+0100
TZNAME:CET
DTSTART:20251026T010000
END:STANDARD
END:VTIMEZONE
BEGIN:VEVENT
DTSTART;TZID=Europe/Zurich:20240525T150000
DTEND;TZID=Europe/Zurich:20240525T200000
DTSTAMP:20260425T004350
CREATED:20240415T155551Z
LAST-MODIFIED:20240528T181906Z
UID:21811-1716649200-1716667200@lsz.lu
SUMMARY:Stammdesch Uetlibierg 2024
DESCRIPTION:Léif LSZler \nGläich ass et endlech sou wäit\, e Samschden\, de 25. Mee gi mir fir eise leschte Stammdësch vum Semester op den Uetlibierg\, fir uewen ze grillen. \nDofir treffe mer eis um 15 Auer beim Triemli\, fir dann all zesumme rop ze trëppelen. Sidd weg pünktlech an huelt ee Rucksak mat. Et wäert provisoresch bis 20 Auer goen. \nËnnerwee wäert och nach ee klenge Béierlaf stattfannen (natierlech och mat engem Präis fir eis Gewënnerekipp) Gidd dofir weg och am Forms u mat wiem dir an der Ekipp si wëllt (Ekippe vun 3-4 Léit) \nD’Umeldung geet bis den 23. Mee 18 Auer iwwert follgende Link: https://lsz.lu/event/stammdesch-uetlibierg-2024/ \nBei iergendwelleche Problemer schreift entweder dem Michel ënnert +352 621 748 226 oder dem Filip +352 621 619 515. \nMir freeën eis\,\nTom\, Michel a Filip \n  \nPlease select a valid form
URL:https://lsz.lu/event/stammdesch-uetlibierg-2024/
CATEGORIES:Event
END:VEVENT
END:VCALENDAR