BEGIN:VCALENDAR
VERSION:2.0
PRODID:-//LSZ - Letzebuerger Studenten zu Zürech - ECPv6.15.20//NONSGML v1.0//EN
CALSCALE:GREGORIAN
METHOD:PUBLISH
X-WR-CALNAME:LSZ - Letzebuerger Studenten zu Zürech
X-ORIGINAL-URL:https://lsz.lu
X-WR-CALDESC:Events for LSZ - Letzebuerger Studenten zu Zürech
REFRESH-INTERVAL;VALUE=DURATION:PT1H
X-Robots-Tag:noindex
X-PUBLISHED-TTL:PT1H
BEGIN:VTIMEZONE
TZID:Europe/Zurich
BEGIN:DAYLIGHT
TZOFFSETFROM:+0100
TZOFFSETTO:+0200
TZNAME:CEST
DTSTART:20190331T010000
END:DAYLIGHT
BEGIN:STANDARD
TZOFFSETFROM:+0200
TZOFFSETTO:+0100
TZNAME:CET
DTSTART:20191027T010000
END:STANDARD
BEGIN:DAYLIGHT
TZOFFSETFROM:+0100
TZOFFSETTO:+0200
TZNAME:CEST
DTSTART:20200329T010000
END:DAYLIGHT
BEGIN:STANDARD
TZOFFSETFROM:+0200
TZOFFSETTO:+0100
TZNAME:CET
DTSTART:20201025T010000
END:STANDARD
BEGIN:DAYLIGHT
TZOFFSETFROM:+0100
TZOFFSETTO:+0200
TZNAME:CEST
DTSTART:20210328T010000
END:DAYLIGHT
BEGIN:STANDARD
TZOFFSETFROM:+0200
TZOFFSETTO:+0100
TZNAME:CET
DTSTART:20211031T010000
END:STANDARD
END:VTIMEZONE
BEGIN:VEVENT
DTSTART;TZID=Europe/Zurich:20200325T173000
DTEND;TZID=Europe/Zurich:20200325T210000
DTSTAMP:20260425T183307
CREATED:20200305T145343Z
LAST-MODIFIED:20200305T164604Z
UID:13703-1585157400-1585170000@lsz.lu
SUMMARY:Visite Paul Wurth
DESCRIPTION:Leif LSZ’ler\, \nSeit en puer Joren zielt Paul Wurth schonn zu den Sponsoren vun eisem Cercle an an dësem Kader kommen si hir Büroen op Zürech presentéieren. Mat iwwer 1700 Employéen an Actviteiten an ronn 20 Länner\, gehéiert Paul Wurth zu deenen gréissten Ingenieursbüroen zu Lëtzebuerg. Fir weider Informatiounen am Virfeld\, kanns du dech gearen bëssen duerch hiren Internetsite liesen : http://www.paulwurth.com/ \nFir des intressant Presentatioun an d’Méiglechkeet mat Representanten vun Paul Wurth ze schwätzen\, net ze verpassen\, mell dech iwwert eisen Internetsite un : \nDat ganzt fënnt statt den 25. März 2020 am ETH IFW C33 um 17h50.  \nNo der Presentatioun invitéiert den Büro vun Paul Wurth nach op eng Kéisfondue an den Hotel Glärnischhof\, an gëtt dir d’Geleeënheet weider Froen un d’Representanten vun Paul Wurth ze stellen. \nD’Platzen sinn op 36 limitéiert\, also maach dech bei. \nBei Froen kanns du dech gearen bei mir mellen : paul@lsz.lu \nPaul Elvinger \n  \nPlease select a valid form
URL:https://lsz.lu/event/visite-paul-wurth/
LOCATION:ETH Zentrum\, Rämistrasse 101\, Zurich\, Zurich\, 8092\, Switzerland
CATEGORIES:Event,Member,Visite Entreprise
ORGANIZER;CN="LSZ Comite":MAILTO:comite@lsz.lu
END:VEVENT
END:VCALENDAR