BEGIN:VCALENDAR
VERSION:2.0
PRODID:-//LSZ - Letzebuerger Studenten zu Zürech - ECPv6.15.20//NONSGML v1.0//EN
CALSCALE:GREGORIAN
METHOD:PUBLISH
X-ORIGINAL-URL:https://lsz.lu
X-WR-CALDESC:Events for LSZ - Letzebuerger Studenten zu Zürech
REFRESH-INTERVAL;VALUE=DURATION:PT1H
X-Robots-Tag:noindex
X-PUBLISHED-TTL:PT1H
BEGIN:VTIMEZONE
TZID:Europe/Zurich
BEGIN:DAYLIGHT
TZOFFSETFROM:+0100
TZOFFSETTO:+0200
TZNAME:CEST
DTSTART:20190331T010000
END:DAYLIGHT
BEGIN:STANDARD
TZOFFSETFROM:+0200
TZOFFSETTO:+0100
TZNAME:CET
DTSTART:20191027T010000
END:STANDARD
BEGIN:DAYLIGHT
TZOFFSETFROM:+0100
TZOFFSETTO:+0200
TZNAME:CEST
DTSTART:20200329T010000
END:DAYLIGHT
BEGIN:STANDARD
TZOFFSETFROM:+0200
TZOFFSETTO:+0100
TZNAME:CET
DTSTART:20201025T010000
END:STANDARD
BEGIN:DAYLIGHT
TZOFFSETFROM:+0100
TZOFFSETTO:+0200
TZNAME:CEST
DTSTART:20210328T010000
END:DAYLIGHT
BEGIN:STANDARD
TZOFFSETFROM:+0200
TZOFFSETTO:+0100
TZNAME:CET
DTSTART:20211031T010000
END:STANDARD
END:VTIMEZONE
BEGIN:VEVENT
DTSTART;TZID=Europe/Zurich:20201205T190000
DTEND;TZID=Europe/Zurich:20201205T230000
DTSTAMP:20260425T004440
CREATED:20201118T143823Z
LAST-MODIFIED:20201118T180402Z
UID:14511-1607194800-1607209200@lsz.lu
SUMMARY:Kleeschen
DESCRIPTION:L̶é̶i̶f̶ ̶L̶S̶Z̶’̶l̶e̶r̶\,̶ ̶ ̶\nL̶e̶i̶d̶e̶r̶ ̶m̶u̶s̶s̶e̶n̶ ̶m̶e̶r̶ ̶*̶i̶n̶s̶e̶r̶t̶ ̶E̶v̶e̶n̶t̶*̶ ̶w̶é̶i̶n̶s̶t̶ ̶d̶e̶r̶ ̶a̶k̶t̶u̶e̶l̶l̶e̶r̶ ̶S̶i̶t̶u̶a̶t̶i̶o̶u̶n̶ ̶o̶f̶s̶o̶e̶n̶\,̶ ̶e̶t̶ ̶a̶s̶s̶ ̶l̶e̶i̶d̶e̶r̶ ̶.̶.̶.̶ \nNee\, haut zielen mer iech léiwer d’Geschicht vum Kleeschen: Deen huet sech en ganzt Joer drop gefreet fir endlech mol rëm bei den LSZ ze kommen\, en gudden Béier ze drénken an mat sengem Kolleg\, dem Houseker en flotten Owend ze verbréngen. Déi Freed wollt en sech natierlech net huelen loossen an huet sech mam Houseker zesummegesat an sech eppes afalen gelooss; mat Corona war déi ganz Saach awer net sou einfach :/ Wei kann en dann all seng brav LSZ’ler gesinn\, ouni Unstiechungen? Ganz einfach an op déi traditionell Art an Weis\, den Kleeschen kennt einfach bei d’LSZ’ler heem an bréngt do seng Kadoen mat. Séier den Schlitt géint en schnëttegen Polo getosch\, den Béier an Schockela agelueden an schon huet en sech op den Wee gemaach. Momentan ass en nach ënnerwee am héichen Norden\, mee mer sollen iech folgendes soen: \n-Hien fänkt säin Tour am Owend vum 5.12 un\n-D’LSZ’ler sollen sech an klengen Gruppen (4-5 Leit) bei engem doheem treffen\n-Jiddereen kritt dann säin Kado laanschtbruecht (Schockela\, Mandarinnen\, Nëss\, Glühwäin an vläicht och eng Rutt!)\n-Pro WG gëtt et en Kajot Béier als Kado (gitt em w.e.g. 11CHF fir den Pfand mat)\n-Fir dass och jiddereen weess wou den Kleeschen grad drun ass gëtt et en Spill/Quizowend iwwert Zoom mat Livestream direkt vum Schlitt\n-Sot dem Kleeschen och w.e.g. Bescheed wou der wunnt\, hien kënnt nëmmen den Café Schlauch an d’Alumni Lounge zu Zürich :/ \nFir den Kleeschen an den Houseker\,\nBischti & Eric \nPlease select a valid form
URL:https://lsz.lu/event/kleeschen/
LOCATION:Zürich/Virtuell
CATEGORIES:Event,Member
ORGANIZER;CN="LSZ Comite":MAILTO:comite@lsz.lu
END:VEVENT
END:VCALENDAR