BEGIN:VCALENDAR
VERSION:2.0
PRODID:-//LSZ - Letzebuerger Studenten zu Zürech - ECPv6.15.20//NONSGML v1.0//EN
CALSCALE:GREGORIAN
METHOD:PUBLISH
X-ORIGINAL-URL:https://lsz.lu
X-WR-CALDESC:Events for LSZ - Letzebuerger Studenten zu Zürech
REFRESH-INTERVAL;VALUE=DURATION:PT1H
X-Robots-Tag:noindex
X-PUBLISHED-TTL:PT1H
BEGIN:VTIMEZONE
TZID:Europe/Zurich
BEGIN:DAYLIGHT
TZOFFSETFROM:+0100
TZOFFSETTO:+0200
TZNAME:CEST
DTSTART:20250330T010000
END:DAYLIGHT
BEGIN:STANDARD
TZOFFSETFROM:+0200
TZOFFSETTO:+0100
TZNAME:CET
DTSTART:20251026T010000
END:STANDARD
BEGIN:DAYLIGHT
TZOFFSETFROM:+0100
TZOFFSETTO:+0200
TZNAME:CEST
DTSTART:20260329T010000
END:DAYLIGHT
BEGIN:STANDARD
TZOFFSETFROM:+0200
TZOFFSETTO:+0100
TZNAME:CET
DTSTART:20261025T010000
END:STANDARD
BEGIN:DAYLIGHT
TZOFFSETFROM:+0100
TZOFFSETTO:+0200
TZNAME:CEST
DTSTART:20270328T010000
END:DAYLIGHT
BEGIN:STANDARD
TZOFFSETFROM:+0200
TZOFFSETTO:+0100
TZNAME:CET
DTSTART:20271031T010000
END:STANDARD
END:VTIMEZONE
BEGIN:VEVENT
DTSTART;TZID=Europe/Zurich:20260509T180000
DTEND;TZID=Europe/Zurich:20260510T020000
DTSTAMP:20260425T003315
CREATED:20260327T193602Z
LAST-MODIFIED:20260401T091307Z
UID:24165-1778349600-1778378400@lsz.lu
SUMMARY:SPL 2026
DESCRIPTION:Léif LSZ’ler\, \nMat grousser Freed invitéieren mer iech den 9. Mee am Zunfthaus zur Saffran op eis traditionell SPL. (https://zunfthauszursaffran.ch/). Och dëst Joer sinn eis Alumni\, also LSZ’ler\, déi virun méi laanger Zäit zu Zürech studéiert hunn\, invitéiert fir mat eis e flotten Owend ze verbréngen. \nDir hutt de Choix tëscht engem Fleesch- a Vegimenü. Sot eis w.e.g. bei Allergië mat Zäite Bescheed. \nStart ass um 18:00 mam Apero. D’Participatioun beleeft sech dëst Joer op 80 Euro. Iwwerweist déi w.e.g. réischt nodeems der vun eis d’Confirmatioun krut. \nWéi all Joers kënnt dir äre Wonschsëtzpartner uginn. Schwätzt iech do w.e.g. virdrunner mateneen of. Traditionell ass den Dresscode Owestenue\, dat heescht Costume oder Kleed. \nDenkt och w.e.g. drun\, dass mir nach Wäin hunn\, deen op Zürech muss transportéiert ginn. Mellt iech dowéinst beim Patrick (+352 621 511 899)\, wann dir vu Lëtzebuerg op Zürech fuert fir e puer Këschte matzebréngen. \nDir kennt iech vum 2. Abrëll um 18:00 bis den 24. Abrëll umellen. D’Umeldunge verlafen nom Prioritéitenprinzip aus eisen APB. \nMir frëeen eis immens op eis Soirée Patriotique Luxembourgeoise an hoffen\, iech zu vill do gesinn! \nLéif Gréiss\,\nÄre Comité \nDu muss dech alogge fir de Forms auszefëllen\n 
URL:https://lsz.lu/event/spl-2026/
CATEGORIES:SPL
END:VEVENT
BEGIN:VEVENT
DTSTART;TZID=Europe/Zurich:20260509T180000
DTEND;TZID=Europe/Zurich:20260510T020000
DTSTAMP:20260425T003315
CREATED:20260331T071216Z
LAST-MODIFIED:20260402T140705Z
UID:24182-1778349600-1778378400@lsz.lu
SUMMARY:SPL 2026 Alumni
DESCRIPTION:Léiw Alumnie vum LSZ\, \nMir freeën eis\, iech ganz häerzlech den 9. Mee ob eis traditionell SPL anzelueden. \nD’Konzept vun der SPL sollt deene meeschten nach bekannt sinn: En 3-Gang-Menü an enger schicker Ambiance\, mat lëtzebuergeschem  Wäin a Cremant\, fir den ETH Professeren ze gedenken déi eis Lëtzebuerger Studente wärend dem 2. Weltkrich bäi sech opgeholl hunn. \nD’SPL zielt zu de gréissten Eventer am Joer an et géif eis immens freeën\, eng Réi Alumnien do begréissen ze kënnen. Et ass eng flott Méiglechkeet fir vun Erfarungen aus der Beruffswelt ze héieren a vun ärer Uniszäit gezielt ze kréien. Fir Iech ass et sécher eng flott Geleeënheet\, dem LSZ nees méi no ze kommen a gezielt ze kréien\, wat sech alles säit ärer Uniszäit verännert huet. \nD’SPL fënnt dëst Joer am Zunfthaus zur Saffran statt (https://zunfthauszursaffran.ch/). Déi genau Adress ass Limmatquai 54\, 8001 Zürich. Lass geet et um 18:00 mam Apero. Wéi gewinnt gëllt ob der SPL d’Tenue correcte. Dir hutt de Choix tëscht engem Fleesch-  a Vegimenü\, sot eis w.e.g. bei Allergië mat Zäite Bescheed. D’Participatioun beleeft sech ob 150€. \nDir kënnt iech bis den 24. Abrëll umëllen. \nBäi Froe kennt dir iech gäre bei eis mellen. \nMat beschte Gréiss\,\nFir de Comité\,\nPatrick Weiser (patrick.weiser@lsz.lu)\nMichèle Philippe (michele.philippe@lsz.lu) \nThis form is currently closed for submissions.
URL:https://lsz.lu/event/spl-2026-alumni/
END:VEVENT
END:VCALENDAR