BEGIN:VCALENDAR
VERSION:2.0
PRODID:-//LSZ - Letzebuerger Studenten zu Zürech - ECPv6.15.20//NONSGML v1.0//EN
CALSCALE:GREGORIAN
METHOD:PUBLISH
X-WR-CALNAME:LSZ - Letzebuerger Studenten zu Zürech
X-ORIGINAL-URL:https://lsz.lu
X-WR-CALDESC:Events for LSZ - Letzebuerger Studenten zu Zürech
REFRESH-INTERVAL;VALUE=DURATION:PT1H
X-Robots-Tag:noindex
X-PUBLISHED-TTL:PT1H
BEGIN:VTIMEZONE
TZID:Europe/Zurich
BEGIN:DAYLIGHT
TZOFFSETFROM:+0100
TZOFFSETTO:+0200
TZNAME:CEST
DTSTART:20240331T010000
END:DAYLIGHT
BEGIN:STANDARD
TZOFFSETFROM:+0200
TZOFFSETTO:+0100
TZNAME:CET
DTSTART:20241027T010000
END:STANDARD
BEGIN:DAYLIGHT
TZOFFSETFROM:+0100
TZOFFSETTO:+0200
TZNAME:CEST
DTSTART:20250330T010000
END:DAYLIGHT
BEGIN:STANDARD
TZOFFSETFROM:+0200
TZOFFSETTO:+0100
TZNAME:CET
DTSTART:20251026T010000
END:STANDARD
BEGIN:DAYLIGHT
TZOFFSETFROM:+0100
TZOFFSETTO:+0200
TZNAME:CEST
DTSTART:20260329T010000
END:DAYLIGHT
BEGIN:STANDARD
TZOFFSETFROM:+0200
TZOFFSETTO:+0100
TZNAME:CET
DTSTART:20261025T010000
END:STANDARD
END:VTIMEZONE
BEGIN:VEVENT
DTSTART;TZID=Europe/Zurich:20251204T180000
DTEND;TZID=Europe/Zurich:20251204T220000
DTSTAMP:20260425T055606
CREATED:20251125T163024Z
LAST-MODIFIED:20251125T163129Z
UID:23818-1764871200-1764885600@lsz.lu
SUMMARY:Kleeschen a Schlittschung 2025
DESCRIPTION:Léif LSZ’ler\, \nD’nächst Woch ass et sou weit an de Kleesche kennt! Well der alleguerten dat ganzt Joer sou gutt geschafft hutt\, invitéiert heen iech de 04.12 op d’Schlittschungpist Heuried (Wasserschöpfi 71\, 8055 Zürich). Do gitt der mat Glühwäin verwinnt an nom Schlittschung fuere geet et nach op de Chrëschtmaart fir eng gutt Raclette. \n  \nFir dass de Kleesche weess weifill Routten/Cadeauen en muss matbréngen\, kenn der iech ab elo bis de Sonnden\, 30.11 18:00 unmellen! \nBis geschwënn\,\nÄre Comité \nDu muss dech alogge fir de Forms auszefëllen
URL:https://lsz.lu/event/kleeschen-a-schlittschung-2025/
END:VEVENT
END:VCALENDAR