BEGIN:VCALENDAR
VERSION:2.0
PRODID:-//LSZ - Letzebuerger Studenten zu Zürech - ECPv6.15.20//NONSGML v1.0//EN
CALSCALE:GREGORIAN
METHOD:PUBLISH
X-ORIGINAL-URL:https://lsz.lu
X-WR-CALDESC:Events for LSZ - Letzebuerger Studenten zu Zürech
REFRESH-INTERVAL;VALUE=DURATION:PT1H
X-Robots-Tag:noindex
X-PUBLISHED-TTL:PT1H
BEGIN:VTIMEZONE
TZID:Europe/Zurich
BEGIN:DAYLIGHT
TZOFFSETFROM:+0100
TZOFFSETTO:+0200
TZNAME:CEST
DTSTART:20240331T010000
END:DAYLIGHT
BEGIN:STANDARD
TZOFFSETFROM:+0200
TZOFFSETTO:+0100
TZNAME:CET
DTSTART:20241027T010000
END:STANDARD
BEGIN:DAYLIGHT
TZOFFSETFROM:+0100
TZOFFSETTO:+0200
TZNAME:CEST
DTSTART:20250330T010000
END:DAYLIGHT
BEGIN:STANDARD
TZOFFSETFROM:+0200
TZOFFSETTO:+0100
TZNAME:CET
DTSTART:20251026T010000
END:STANDARD
BEGIN:DAYLIGHT
TZOFFSETFROM:+0100
TZOFFSETTO:+0200
TZNAME:CEST
DTSTART:20260329T010000
END:DAYLIGHT
BEGIN:STANDARD
TZOFFSETFROM:+0200
TZOFFSETTO:+0100
TZNAME:CET
DTSTART:20261025T010000
END:STANDARD
END:VTIMEZONE
BEGIN:VEVENT
DTSTART;TZID=Europe/Zurich:20250501T000000
DTEND;TZID=Europe/Zurich:20250504T000000
DTSTAMP:20260425T180757
CREATED:20250326T123838Z
LAST-MODIFIED:20260328T121000Z
UID:22990-1746057600-1746316800@lsz.lu
SUMMARY:Clubrees 2025
DESCRIPTION:Léif LSZler\, \nAn e puer Wochen ass et nees esou wäit\, d’Clubrees 2025 steet virun der Dier. Dëst Joer geet et zréck an dat schéint Italien\, op Florenz. \nMir wäerten Donneschdes Moies\, den 1. Mee ëm 6h30 de Bus um Höngg huelen\, an eis op de Wee an de Süde machen fir hoffentlech em 18h00 zu Florenz unzekommen. Um Hiwee wäerte mir och en Zweschestop vun 2-3h zu Parma maachen fir eis d’Been ze vertreppelen an den Tank nees ze fellen. Zréck fuere mir Sonndes am Nometten an engem Stéck\, soudass mir Sonndes de 4. Mee spéit Owes zu Zürech sinn. \nFir e flotte Programm wärend de véier Deeg wäert natierlech och gesuergt sinn\, en ass awer leider nach net 100% fest. Mir deelen iech alles mat\, soubal de Plang steet. Genuch Zäit fir op eege Fauscht d’Stad ze entdecken ass awer sécher! \nD’Participatioun steet doduerch och nach net ganz fest\, mee se wäert ronderëm 140€ bis 160€ leien. Do sinn de Bus\, den Hostel\, ee gemeinsaamt Owesiessen a kleng Aktivitéiten déi mir all zesumme maachen\, mat abegraff. \nD’Plaze sinn op 36 Persoune begrenzt a bannent de Kategorië vun de Prioritéite gellt de Prinzip vum “first come first served”. Mellt iech also séier un! \nWann d’Umeldungsphas eriwwer ass\, kritt dir Bescheed gesot\, op dir eng Platz kritt hutt. Zu deem Zäitpunkt kritt dir och d’Detailer fir d’Participatioun ze bezuelen. Mir hunn aktuell nach e Problem mat der Confirmatiounsmail vun der Umeldung\, dowéinst wonnert iech net\, wann dir no ärer Submission keng Mail kritt. \nBei Froe kennt dir iech gär bei de Responsabele vun der Clubrees mellen: Cedric Mulders (cedric@lsz.lu) an Philippe Schaack (philippe.schaack@lsz.lu). \nMir freeën eis op eng flott Rees mam LSZ\, \nÄre Comité \n  \n\n\n\n\nClubrees2025\n\n\n\n\n\n\n\n\n    Numm\n        *\n    \n    \n	\n		Numm	\n\n	\n					\n				\n					Virnumm				\n\n				Virnumm			\n						\n				\n					Nonumm				\n\n				Nonumm			\n				\n\n\n    \n    \n\n\n    Email\n        *\n    \n    \n    \n    \n\n\n    Handynummer\n        *\n    \n    \n    \n    \n\n\n    Gebuertsdaag\n        *\n    \n    \n    \n    \n\n\n    Nationalitéit\n        *\n    \n    \n    \n    \n\n\n    Pass/Carte d'Identité Nummer\n        *\n    \n    \n    \n    \n\n\n    Iessenspräferenzen\n        \n    \n    					\n			 Vegetaresch\n\n    \n    \n\n\n    Allergien / aner Remarquen\n        \n    \n    \n    \n    \n\n\n    Checkboxes\n        *\n    \n    					\n			 Ech akzeptéiren d'APB (Allgemeng Participatiouns Bedingungen) https://lsz.lu/wp-content/uploads/2023/10/Allgemeng-Participatiouns-Bedingungen-update-1.pdf\n\n    \n    \n\n\n\n	\n\nSubmit\n\n\n\n\n	\n			\n			\n				If you are human\, leave this field blank.
URL:https://lsz.lu/event/clubrees-25/
END:VEVENT
END:VCALENDAR