BEGIN:VCALENDAR
VERSION:2.0
PRODID:-//LSZ - Letzebuerger Studenten zu Zürech - ECPv6.15.20//NONSGML v1.0//EN
CALSCALE:GREGORIAN
METHOD:PUBLISH
X-WR-CALNAME:LSZ - Letzebuerger Studenten zu Zürech
X-ORIGINAL-URL:https://lsz.lu
X-WR-CALDESC:Events for LSZ - Letzebuerger Studenten zu Zürech
REFRESH-INTERVAL;VALUE=DURATION:PT1H
X-Robots-Tag:noindex
X-PUBLISHED-TTL:PT1H
BEGIN:VTIMEZONE
TZID:Europe/Zurich
BEGIN:DAYLIGHT
TZOFFSETFROM:+0100
TZOFFSETTO:+0200
TZNAME:CEST
DTSTART:20230326T010000
END:DAYLIGHT
BEGIN:STANDARD
TZOFFSETFROM:+0200
TZOFFSETTO:+0100
TZNAME:CET
DTSTART:20231029T010000
END:STANDARD
BEGIN:DAYLIGHT
TZOFFSETFROM:+0100
TZOFFSETTO:+0200
TZNAME:CEST
DTSTART:20240331T010000
END:DAYLIGHT
BEGIN:STANDARD
TZOFFSETFROM:+0200
TZOFFSETTO:+0100
TZNAME:CET
DTSTART:20241027T010000
END:STANDARD
BEGIN:DAYLIGHT
TZOFFSETFROM:+0100
TZOFFSETTO:+0200
TZNAME:CEST
DTSTART:20250330T010000
END:DAYLIGHT
BEGIN:STANDARD
TZOFFSETFROM:+0200
TZOFFSETTO:+0100
TZNAME:CET
DTSTART:20251026T010000
END:STANDARD
END:VTIMEZONE
BEGIN:VEVENT
DTSTART;TZID=Europe/Zurich:20241206T180000
DTEND;TZID=Europe/Zurich:20241206T210000
DTSTAMP:20260426T024142
CREATED:20241124T171151Z
LAST-MODIFIED:20241124T171208Z
UID:22559-1733508000-1733518800@lsz.lu
SUMMARY:Kleeschen an der Ambassade
DESCRIPTION:Léif LSZ’ler\, \nNodeems dir vum Houseker op der Schlittschongpiste bestrooft gouft\, gitt dir trotzdeem alleguerten den Dag drop belount. De 6. Dezember invitéiert déi lëtzebuergesch Ambassade zu Bern d’Schwäizer Cerclen op ee Kleeschersowend voller gudder Chrëschtdag-Spezialitéite wéi Wäin a Schockela. \nFir datt dir de Wee op Bern awer net nëmme maacht\, fir vum Ambassadeur verwinnt ze ginn\, hu mir zesumme mam Friblëtz gekuckt\, bei hinne Schlofplazen fir deen Owend ze kréien\, fir datt mir Kleeschersdag an enger gudder Bar oder Club mat de Cerclë vu Lausanne a Fribourg ausklénge kënne loossen an dono séier a sécher an ee waarmt Bettchen ze kommen. \nFir op dem Owend an der Ambassade deelzehuelen musst dir iech bis den 30. November um 23:59 umellen. Wann dir eng Schlofplaz zu Fribourg\, wat wesentlech méi no wéi Zürech ass\, braucht\, da gitt dat weg och am Forms un. Dir kënnt iech ënnen iwwert de Forms umellen. \nFir op Bern ze kommen ass et am prakteschsten d’Friends Tageskarte ze huelen a mam Zuch ze fueren. D’Friends Tageskarte ass ee GA fir 4 Leit den insgesamt 80CHF kascht\, spréch 20CHF op de Kapp. Méi Infoen zu dëser Kaart fannt dir hei  \nBis geschwënn\, \nÄre Comité \n  \nPlease select a valid form
URL:https://lsz.lu/event/kleeschen-an-der-ambassade/
LOCATION:Ambassade Bern\, Thunplatz 52\, Bern\, Switzerland
END:VEVENT
END:VCALENDAR