BEGIN:VCALENDAR
VERSION:2.0
PRODID:-//LSZ - Letzebuerger Studenten zu Zürech - ECPv6.15.20//NONSGML v1.0//EN
CALSCALE:GREGORIAN
METHOD:PUBLISH
X-WR-CALNAME:LSZ - Letzebuerger Studenten zu Zürech
X-ORIGINAL-URL:https://lsz.lu
X-WR-CALDESC:Events for LSZ - Letzebuerger Studenten zu Zürech
REFRESH-INTERVAL;VALUE=DURATION:PT1H
X-Robots-Tag:noindex
X-PUBLISHED-TTL:PT1H
BEGIN:VTIMEZONE
TZID:Europe/Zurich
BEGIN:DAYLIGHT
TZOFFSETFROM:+0100
TZOFFSETTO:+0200
TZNAME:CEST
DTSTART:20230326T010000
END:DAYLIGHT
BEGIN:STANDARD
TZOFFSETFROM:+0200
TZOFFSETTO:+0100
TZNAME:CET
DTSTART:20231029T010000
END:STANDARD
BEGIN:DAYLIGHT
TZOFFSETFROM:+0100
TZOFFSETTO:+0200
TZNAME:CEST
DTSTART:20240331T010000
END:DAYLIGHT
BEGIN:STANDARD
TZOFFSETFROM:+0200
TZOFFSETTO:+0100
TZNAME:CET
DTSTART:20241027T010000
END:STANDARD
BEGIN:DAYLIGHT
TZOFFSETFROM:+0100
TZOFFSETTO:+0200
TZNAME:CEST
DTSTART:20250330T010000
END:DAYLIGHT
BEGIN:STANDARD
TZOFFSETFROM:+0200
TZOFFSETTO:+0100
TZNAME:CET
DTSTART:20251026T010000
END:STANDARD
END:VTIMEZONE
BEGIN:VEVENT
DTSTART;TZID=Europe/Zurich:20241205T183000
DTEND;TZID=Europe/Zurich:20241205T220000
DTSTAMP:20260426T024215
CREATED:20241123T112458Z
LAST-MODIFIED:20241123T112531Z
UID:22528-1733423400-1733436000@lsz.lu
SUMMARY:Kleeschen a Schlittschong 2024
DESCRIPTION:Léif LSZ’ler\, och dëst Joer krute mir vun de Rendéiere geflüstert\, dass den Houseker a natierlech och de Kleeschen op iech opmierksam gi sinn an e puer Iwwerraschunge fir iech hunn. Dofir invitéieren si iech de 5. Dezember häerzlech op d’Schlittschongpist um Dolder\, vu wou et da weider op de Chrëschtmaart geet an dir mat hinnen eng gutt Raclette genéisse kennt. \nDe Kleesche\, den Houseker a mir freeën eis op iech all\, a fir dass mir och wësse wéivill Rutte mir musse matbréngen\, mellt iech w.e.g. hei ab dem 25.11. 18:00 bis den 1.12. 23:59 un: \nDu muss dech alogge fir de Forms auszefëllen
URL:https://lsz.lu/event/kleeschen-a-schlittschong-2024/
END:VEVENT
END:VCALENDAR