BEGIN:VCALENDAR
VERSION:2.0
PRODID:-//LSZ - Letzebuerger Studenten zu Zürech - ECPv6.15.20//NONSGML v1.0//EN
CALSCALE:GREGORIAN
METHOD:PUBLISH
X-ORIGINAL-URL:https://lsz.lu
X-WR-CALDESC:Events for LSZ - Letzebuerger Studenten zu Zürech
REFRESH-INTERVAL;VALUE=DURATION:PT1H
X-Robots-Tag:noindex
X-PUBLISHED-TTL:PT1H
BEGIN:VTIMEZONE
TZID:Europe/Zurich
BEGIN:DAYLIGHT
TZOFFSETFROM:+0100
TZOFFSETTO:+0200
TZNAME:CEST
DTSTART:20230326T010000
END:DAYLIGHT
BEGIN:STANDARD
TZOFFSETFROM:+0200
TZOFFSETTO:+0100
TZNAME:CET
DTSTART:20231029T010000
END:STANDARD
BEGIN:DAYLIGHT
TZOFFSETFROM:+0100
TZOFFSETTO:+0200
TZNAME:CEST
DTSTART:20240331T010000
END:DAYLIGHT
BEGIN:STANDARD
TZOFFSETFROM:+0200
TZOFFSETTO:+0100
TZNAME:CET
DTSTART:20241027T010000
END:STANDARD
BEGIN:DAYLIGHT
TZOFFSETFROM:+0100
TZOFFSETTO:+0200
TZNAME:CEST
DTSTART:20250330T010000
END:DAYLIGHT
BEGIN:STANDARD
TZOFFSETFROM:+0200
TZOFFSETTO:+0100
TZNAME:CET
DTSTART:20251026T010000
END:STANDARD
END:VTIMEZONE
BEGIN:VEVENT
DTSTART;TZID=Europe/Zurich:20241120T190000
DTEND;TZID=Europe/Zurich:20241120T220000
DTSTAMP:20260426T044432
CREATED:20241017T141036Z
LAST-MODIFIED:20241101T185925Z
UID:22382-1732129200-1732140000@lsz.lu
SUMMARY:Visitt TR Engineering - 20. November
DESCRIPTION:Léif LSZ’ler\, \nDen 20. November steet déi lescht Visitt vun dësem Semester vun eisem Goldsponsor TR-Engineering un. D’Pauline Kremer\, LSZ-Alumni\, kennt zesumme mat Mataarbechter op Zürich\, fir eis eng spannend Presentatioun ze halen. TR-Engineering gouf am Joer 1988 gegrënnt a fokusséiert sech zënterhier op d’Planung an d’Ëmsetzung vun Infrastrukturprojeten\, souwéi op Amenagement- a Entwécklungsprogrammer\, zu Lëtzebuerg an an Entwécklungslänner. Zu Lëtzebuerg waren si ënner anerem bei der Planung vum Stade National de Luxembourg an a ville weidere interessante Projete bedeelegt. Et soll betount ginn\, dass si net nëmme klassesch Bauingenieuren astellen\, mee och der Gebaitechnik an anere Beräicher aktiv sinn. Mei Informatiounen iwwert hire Betrib fannt dir ënner follgendem Link: https://www.tr-engineering.lu \nD‘Visitt fënnt och des Kéier am Alehouse statt a mir hunn déi grouss Chance mat de Mataarbechter vun TR Engineering\, bei engem herrleche Buffet\, den Owend auskléngen ze loossen.  \nDobäi soll gesot sinn\, dat déi Presentatioun fir all Alterskategorie vun LSZ’ler interessant ass. \nHei drënner fannt dir de Link fir d‘Umeldung déi bis de 15. November um 18:00 Auer op ass. \nBescht Gréiss\,\nDe Comité \n  \nPlease select a valid form
URL:https://lsz.lu/event/visitt-tr-engineering-20-november/
LOCATION:Alehouse\, Universitätstrasse 23\, Zürich\, 8006\, Switzerland
CATEGORIES:Visite Entreprise
ORGANIZER;CN="LSZ Comite":MAILTO:comite@lsz.lu
END:VEVENT
END:VCALENDAR