BEGIN:VCALENDAR
VERSION:2.0
PRODID:-//LSZ - Letzebuerger Studenten zu Zürech - ECPv6.15.20//NONSGML v1.0//EN
CALSCALE:GREGORIAN
METHOD:PUBLISH
X-WR-CALNAME:LSZ - Letzebuerger Studenten zu Zürech
X-ORIGINAL-URL:https://lsz.lu
X-WR-CALDESC:Events for LSZ - Letzebuerger Studenten zu Zürech
REFRESH-INTERVAL;VALUE=DURATION:PT1H
X-Robots-Tag:noindex
X-PUBLISHED-TTL:PT1H
BEGIN:VTIMEZONE
TZID:Europe/Zurich
BEGIN:DAYLIGHT
TZOFFSETFROM:+0100
TZOFFSETTO:+0200
TZNAME:CEST
DTSTART:20230326T010000
END:DAYLIGHT
BEGIN:STANDARD
TZOFFSETFROM:+0200
TZOFFSETTO:+0100
TZNAME:CET
DTSTART:20231029T010000
END:STANDARD
BEGIN:DAYLIGHT
TZOFFSETFROM:+0100
TZOFFSETTO:+0200
TZNAME:CEST
DTSTART:20240331T010000
END:DAYLIGHT
BEGIN:STANDARD
TZOFFSETFROM:+0200
TZOFFSETTO:+0100
TZNAME:CET
DTSTART:20241027T010000
END:STANDARD
BEGIN:DAYLIGHT
TZOFFSETFROM:+0100
TZOFFSETTO:+0200
TZNAME:CEST
DTSTART:20250330T010000
END:DAYLIGHT
BEGIN:STANDARD
TZOFFSETFROM:+0200
TZOFFSETTO:+0100
TZNAME:CET
DTSTART:20251026T010000
END:STANDARD
END:VTIMEZONE
BEGIN:VEVENT
DTSTART;TZID=Europe/Zurich:20241106T190000
DTEND;TZID=Europe/Zurich:20241106T220000
DTSTAMP:20260426T062944
CREATED:20241011T091122Z
LAST-MODIFIED:20241013T154202Z
UID:22298-1730919600-1730930400@lsz.lu
SUMMARY:Proximus Visitt - 6. November 2024
DESCRIPTION:Léif LSZ’ler\, \nGeschwënn steet déi zweet Visitt an dësem Semester vun engem vun eise Sponsoren un. De 6.11. däerfe mir den Alexis Briois vu Proximus Luxembourg S.A hei zu Zürech begréissen. Proximus\, Mammekonzern vun ënner anerem Tango\, ass eng Grupp\, déi zu de féierenden Ubidder vun Internet\, TV an ICT Servicer an der Belsch gehéiert. Mee och zu Lëtzebuerg hëllefen si zumools beim Ausbau vun Telekommunikatiounsinfrastrukturen an ICT-Servicer a mir kennen se all eben ënnert dem Numm Tango. Fir méi genau Infoen zu Proximus kënnt dir nach op hirer Website nokucken: https://www.proximus.lu/fr/ . \nD’Visite fënnt an enger kollegialer a flotter Ambiance statt\, soudatt mir mam Härr Brioix vu Proximus ee flotten Owend am Alehouse (https://www.alehouse.ch) verbrénge wäerten. Fir dat dir net verduuscht an erhéngert\, ass d’Iessen a Gedrénks dee ganzen Owend inclus an dir musst fir guer näischt bezuelen. Dobäi soll gesot sinn\, dat déi Presentatioun fir all Alterskategorie vun LSZ’ler interessant ass. \nDe Programm vun de Visite wäert wéi follegt sinn:\n– Presentatioun vu Proximus Luxembourg an hier Beruffsfelder (10/15min)\n– Konferenz “Wéi verkaafen ech mech gudd op engem Bewerbungsgespréich” (format TedTalk\, +/- 20min)\n– Question Réponse\n– Apéro dinatoire \nDir gesitt de Programm riicht sech u jiddereen a kann iech an egal wéi engem Domaine weiderhëllefen. \nDe Forms fir d’Umeldung fannt dir ënnert dësem ganze Message. D’Umeldung ass bis Freides\, den 1. November\, um 18:00 Auer op. \nEe schéine Weekend gewënscht\,\nPol Winkin \n  \nPlease select a valid form
URL:https://lsz.lu/event/proximus-visitt-6-november/
LOCATION:Alehouse\, Universitätstrasse 23\, Zürich\, 8006\, Switzerland
CATEGORIES:Event
ORGANIZER;CN="LSZ Comite":MAILTO:comite@lsz.lu
END:VEVENT
END:VCALENDAR