BEGIN:VCALENDAR
VERSION:2.0
PRODID:-//LSZ - Letzebuerger Studenten zu Zürech - ECPv6.15.20//NONSGML v1.0//EN
CALSCALE:GREGORIAN
METHOD:PUBLISH
X-ORIGINAL-URL:https://lsz.lu
X-WR-CALDESC:Events for LSZ - Letzebuerger Studenten zu Zürech
REFRESH-INTERVAL;VALUE=DURATION:PT1H
X-Robots-Tag:noindex
X-PUBLISHED-TTL:PT1H
BEGIN:VTIMEZONE
TZID:Europe/Zurich
BEGIN:DAYLIGHT
TZOFFSETFROM:+0100
TZOFFSETTO:+0200
TZNAME:CEST
DTSTART:20230326T010000
END:DAYLIGHT
BEGIN:STANDARD
TZOFFSETFROM:+0200
TZOFFSETTO:+0100
TZNAME:CET
DTSTART:20231029T010000
END:STANDARD
BEGIN:DAYLIGHT
TZOFFSETFROM:+0100
TZOFFSETTO:+0200
TZNAME:CEST
DTSTART:20240331T010000
END:DAYLIGHT
BEGIN:STANDARD
TZOFFSETFROM:+0200
TZOFFSETTO:+0100
TZNAME:CET
DTSTART:20241027T010000
END:STANDARD
BEGIN:DAYLIGHT
TZOFFSETFROM:+0100
TZOFFSETTO:+0200
TZNAME:CEST
DTSTART:20250330T010000
END:DAYLIGHT
BEGIN:STANDARD
TZOFFSETFROM:+0200
TZOFFSETTO:+0100
TZNAME:CET
DTSTART:20251026T010000
END:STANDARD
END:VTIMEZONE
BEGIN:VEVENT
DTSTART;TZID=Europe/Zurich:20240518T180000
DTEND;TZID=Europe/Zurich:20240519T020000
DTSTAMP:20260425T194651
CREATED:20240422T115617Z
LAST-MODIFIED:20240422T154921Z
UID:21782-1716055200-1716084000@lsz.lu
SUMMARY:SPL 2024
DESCRIPTION:Léif LSZ’ler\, \nMir hunn déi grouss Freed iech den 18. Mee an d’Zunfthaus zur Meisen (https://www.zunfthaus-zur-meisen.ch/) op d’SPL ze invitéieren. Bei dëser SPL wäert et nees de Fall sinn\, dass och Alumnien\, also LSZ’ler\, déi viru mei laanger Zäit zu Zürech studéiert hunn\, invitéiert sinn a mat eis e flotten Owend verbrénge wäerten. \nDir hutt de Choix tëscht engem Fleesch – a Vegimenü. Sot eis w.e.g. bei Allergië mat Zäite Bescheed. \nStart ass um 18:00 mam Apero. D’Participatioun beleeft sech dëst Joer op 80 Euro. Iwwerweist déi w.e.g. réischt nodeems der vun eis d’Confirmatioun dozou krut. \nDir kënnt och rëm äre Wonschsetzpartner uginn. Schwätzt iech do w.e.g. virdrunner mateneen of. Traditionell ass den Dresscode Owestenue\, dat heescht Costume oder Kleed. \nDenkt och w.e.g. drun\, dass mir nach Wäin hunn\, deen op Zürech muss transportéiert ginn. Mellt Iech dowéinst w.e.g beim Cédric Delhez\, wann dir vu Lëtzebuerg op Zürech fuert fir e puer Këschte matzebréngen. \nDir kennt iech ab e Mëttwoch\, den 24.04. (18h00) bis den 03.05 (18h00) umellen. \nD’Umeldunge verlafen nom Prioritéitenprinzip aus eisen APB. \nD’Plazen si begrenzt a bannent de Kategorië vun de Prioritéite gelt de Prinzip vum “first come first served”. Mellt iech also séier un! \nMir freeën eis riseg iech all rëm kënnen op d’SPL ze invitéieren an hoffen der vill vun iech kennen do ze hunn! \nFir de Comité\, \nPlease select a valid form
URL:https://lsz.lu/event/spl-2024/
LOCATION:Zunfthaus zur Meisen\, Münsterhof 20\, Zurich\, Switzerland
CATEGORIES:Event,SPL
END:VEVENT
BEGIN:VEVENT
DTSTART;TZID=Europe/Zurich:20240518T180000
DTEND;TZID=Europe/Zurich:20240519T020000
DTSTAMP:20260425T194651
CREATED:20240423T081650Z
LAST-MODIFIED:20240423T082446Z
UID:21793-1716055200-1716084000@lsz.lu
SUMMARY:SPL 2024 Alumni
DESCRIPTION:Léif Alumnis vum LSZ\, \nFir de Kontakt tëscht den LSZler an den Alumnis weiderhin oprecht ze erhalen\, invitéiere mir Iech ganz häerzlech den 18. Mai op eis traditionell SPL.  \nD’Konzept vun der SPL sollt deene meeschten nach bekannt sinn: En 3-Gang-Menü an enger schicker Ambiance mat\, aus Lëtzebuerg importéiertem\, Wäin a Cremant fir den ETH Professeren ze gedenken déi eis Lëtzebuerger Studenten wärend dem 2. Weltkrich bäi sech opgeholl hunn.  \nDëst ass mat ee vun eise gréissten Eventer am Joer an et géif eis immens freeën eng Rei Alumnis vum LSZ do begréissen ze kënnen. Net nëmmen ass dëst fir eis eng flott Méiglechkeet vun Erfarungen aus der Beruffswelt ze héieren a vun ärer Uniszäit gezielt ze kréien\, mais et ass sécher och fir Iech eng super Alternativ dem LSZ nees méi no ze kommen a gezielt ze kréien\, wat sech alles säit ärer Uniszäit verännert huet.  \nD’SPL fënnt dëst Joer am Zunfthaus zur Meisen (https://www.zunfthaus-zur-meisen.ch/) statt. Déi genau Adress ass Münsterhof 20\, CH-8001 Zürich. Mir géifen um 18:00 mam Apéro starten. Wei gewinnt gëllt op der SPL d’Tenue correcte. Dir hutt de Choix tëscht 2 Menüen (Fleesch a vegetaresch) an d’Participatioun beleet sech op 140€.  \nD’Menüe si wei folgend:  \nFleesch-Menü: \n\nSpargelcreme Suppe mit knusprigem Bündnerfleisch\nHähnchenbrust-Piccata alla Milanese auf Champagner Safran-Risotto\, Tomaten Clamard\nHimbeeren Roulade mit Sauerrahm Glacé\n\nVegi-Menü: \n\nSpargelcreme Suppe mit knuspriger Einlage\nChicorée Piccata\, Champagner Safran-Risotto\, Tomaten Clavard\nHimbeeren Roulade mit Sauerrahm Glacé\n\n  \nFalls Dir interesséiert sidd un der SPL deelzehuelen\, géife mir Iech bieden Iech ab dem 25. Abrëll ab 12:00 hei unzemellen: \nPlease select a valid form \nD’Platzen (fir d’Alumnien) sinn op 20 Persounen limitéiert\, Dir kënnt Iech bis den 5. Mai umellen.  \nBäi Froe kënnt Dir Iech gäre bei eis mellen.  \nMir freeën eis Iech rëm op d’SPL kennen ze invitéieren\, an hoffen der vill vun Iech kënnen do ze gesinn.   \nFir de Comité vum LSZ\, \nCédric Delhez (cedric.delhez@lsz.lu)\, Pol Winkin (pol.winkin@lsz.lu) & Larissa Weber (larissa.weber@lsz.lu) 
URL:https://lsz.lu/event/spl-2024-alumni/
LOCATION:Zunfthaus zur Meisen\, Münsterhof 20\, Zurich\, Switzerland
ORGANIZER;CN="LSZ Comite":MAILTO:comite@lsz.lu
END:VEVENT
END:VCALENDAR