BEGIN:VCALENDAR
VERSION:2.0
PRODID:-//LSZ - Letzebuerger Studenten zu Zürech - ECPv6.15.20//NONSGML v1.0//EN
CALSCALE:GREGORIAN
METHOD:PUBLISH
X-WR-CALNAME:LSZ - Letzebuerger Studenten zu Zürech
X-ORIGINAL-URL:https://lsz.lu
X-WR-CALDESC:Events for LSZ - Letzebuerger Studenten zu Zürech
REFRESH-INTERVAL;VALUE=DURATION:PT1H
X-Robots-Tag:noindex
X-PUBLISHED-TTL:PT1H
BEGIN:VTIMEZONE
TZID:Europe/Zurich
BEGIN:DAYLIGHT
TZOFFSETFROM:+0100
TZOFFSETTO:+0200
TZNAME:CEST
DTSTART:20220327T010000
END:DAYLIGHT
BEGIN:STANDARD
TZOFFSETFROM:+0200
TZOFFSETTO:+0100
TZNAME:CET
DTSTART:20221030T010000
END:STANDARD
BEGIN:DAYLIGHT
TZOFFSETFROM:+0100
TZOFFSETTO:+0200
TZNAME:CEST
DTSTART:20230326T010000
END:DAYLIGHT
BEGIN:STANDARD
TZOFFSETFROM:+0200
TZOFFSETTO:+0100
TZNAME:CET
DTSTART:20231029T010000
END:STANDARD
BEGIN:DAYLIGHT
TZOFFSETFROM:+0100
TZOFFSETTO:+0200
TZNAME:CEST
DTSTART:20240331T010000
END:DAYLIGHT
BEGIN:STANDARD
TZOFFSETFROM:+0200
TZOFFSETTO:+0100
TZNAME:CET
DTSTART:20241027T010000
END:STANDARD
END:VTIMEZONE
BEGIN:VEVENT
DTSTART;VALUE=DATE:20230701
DTEND;VALUE=DATE:20230702
DTSTAMP:20260424T225843
CREATED:20230516T152316Z
LAST-MODIFIED:20230516T152316Z
UID:19462-1688169600-1688255999@lsz.lu
SUMMARY:Alus Summercup 2023
DESCRIPTION:Hei kennt dir ierch fier den Summercup vun der Alus umellen. Den Summercup fennt den 1ten Juli zu Hueschtert statt. D’ Alus organiseiert een Fussball Tournoi\, wou d’ Letzebuerger Cerclen kennen geint eneen spillen. Wann mir genuch Leit zesummen kreien\, 5 Spiller + 1 Goalkeep\, dann mellen mer och eng equipe un. Falls du also loscht hues een flotten daat mat Fussball\, Musék\, Gegrills an Bierpong ze verbrengen\, dann mell dech un. \n  \n  \nPlease select a valid form\n 
URL:https://lsz.lu/event/alus-summercup-2023/
LOCATION:Hueschtert\, Luxembourg
END:VEVENT
END:VCALENDAR