BEGIN:VCALENDAR
VERSION:2.0
PRODID:-//LSZ - Letzebuerger Studenten zu Zürech - ECPv6.15.20//NONSGML v1.0//EN
CALSCALE:GREGORIAN
METHOD:PUBLISH
X-ORIGINAL-URL:https://lsz.lu
X-WR-CALDESC:Events for LSZ - Letzebuerger Studenten zu Zürech
REFRESH-INTERVAL;VALUE=DURATION:PT1H
X-Robots-Tag:noindex
X-PUBLISHED-TTL:PT1H
BEGIN:VTIMEZONE
TZID:Europe/Zurich
BEGIN:DAYLIGHT
TZOFFSETFROM:+0100
TZOFFSETTO:+0200
TZNAME:CEST
DTSTART:20220327T010000
END:DAYLIGHT
BEGIN:STANDARD
TZOFFSETFROM:+0200
TZOFFSETTO:+0100
TZNAME:CET
DTSTART:20221030T010000
END:STANDARD
BEGIN:DAYLIGHT
TZOFFSETFROM:+0100
TZOFFSETTO:+0200
TZNAME:CEST
DTSTART:20230326T010000
END:DAYLIGHT
BEGIN:STANDARD
TZOFFSETFROM:+0200
TZOFFSETTO:+0100
TZNAME:CET
DTSTART:20231029T010000
END:STANDARD
BEGIN:DAYLIGHT
TZOFFSETFROM:+0100
TZOFFSETTO:+0200
TZNAME:CEST
DTSTART:20240331T010000
END:DAYLIGHT
BEGIN:STANDARD
TZOFFSETFROM:+0200
TZOFFSETTO:+0100
TZNAME:CET
DTSTART:20241027T010000
END:STANDARD
END:VTIMEZONE
BEGIN:VEVENT
DTSTART;TZID=Europe/Zurich:20230428T060000
DTEND;TZID=Europe/Zurich:20230430T230000
DTSTAMP:20260424T230416
CREATED:20230318T192010Z
LAST-MODIFIED:20230426T171616Z
UID:19295-1682661600-1682895600@lsz.lu
SUMMARY:Genua 2023
DESCRIPTION:Léif LSZler\, \nGeschwenn ass et nees esou wäit\, d’Clubrees 2023 steht virun der Dier. Eis Rees féiert eis dest Joer nees an Italien\, an zwar an d’Hafenstaadt Genua\, d’Haaptstaadt vun der Regioun Legurien\, un der nördlecher Westküst vun eisen Noperen.  \nMir wäerten Freidegmoies\, den 28. Abrell mam Bus vum Hönggerberg aus fortfueren an kuerz no der Mettesstonn zu Genua ukommen. Zereck fueren mir den Sonndegowend\, den 30. Abrell. \nFir en flotten Programm ass natielech och gesuergt. Freides am Nomette gin mir zesummen d’Staadt an den aalen Hafen entdecken. Samstes kennen mir bis an d’Regioun Cinque-Terre an der Géigend vun Genua fueren\, fir déi wonnerschéin Vuen op d’Dierfer vun Cinque-Terre\, d’Wanderweer vun der Regioun an natierlech d’Plagen ze genéissen. Uschléissend gin mir zu Genua nach all zesummen iessen. Fir en gudden Ofschloss vun der Clubrees\, gin mir Sonndegmoies zesummen den berühmten Salzwaasser Aquarium vun Genua kucken. Duerno fueren mir am spéiden Nometten nees zereck op Zürech. Fir genug Fräizäit ass natielech och gesuergt. \nD’Participatioun läit dëst Joer bei 100€\, do sinn den Transport\, den Hostel\, een Nuechtiessen an déi kleng Aktivitéiten déi mir all zesumme maachen\, mat abegraff. \nDir kennt iech vum Méinden\, den 20.3. em 18h00 bis den Donneschten\, 24.3. em 18h00 op eiser Website ennert desem Link () umellen. D’Umeldungen verlafen nom Prioritéitenprinzip aus eisen APB (https://lsz.lu/wp-content/uploads/2021/01/APB.pdf).  \nD’Plaze sinn op 35 Persounen begrenzt an bannent de Kategorien vun de Prioritéiten gelt den Prinzip vum “first come first served”. Mellt iech also séier un! \nWann d’Umeldungsphas eriwwer ass\, kritt dir Bescheed gesot\, op dir eng Platz kritt hutt. Zu deem Zäitpunkt kritt dir och d’Detailer fir d’Participatioun ze bezuelen. \nBei Froen kennt dir iech gär bei de Responsabelen vun der Clubrees mellen: Cedric Mulders (cedric@lsz.lu) an Kéo Oran (keo@lsz.lu).  \nMir freen eis op eng flott Rees mam LSZ\, \nÄeren Comité \nP.S. Wéi dir fläicht schon matkritt hat\, war eisen ursprünglechen Plang fir op Zagreb an Kroatien ze fueren. Allerdengs sin d’Zich op Zagreb zweschen Abrell an Mee ausgefall\, dowéinst ass aus desem Plang leider näischt gin. Bleiwt awer gespant fir d’Clubrees 2024 😉 \nPlease select a valid form
URL:https://lsz.lu/event/genua-2023/
END:VEVENT
END:VCALENDAR