BEGIN:VCALENDAR
VERSION:2.0
PRODID:-//LSZ - Letzebuerger Studenten zu Zürech - ECPv6.15.20//NONSGML v1.0//EN
CALSCALE:GREGORIAN
METHOD:PUBLISH
X-ORIGINAL-URL:https://lsz.lu
X-WR-CALDESC:Events for LSZ - Letzebuerger Studenten zu Zürech
REFRESH-INTERVAL;VALUE=DURATION:PT1H
X-Robots-Tag:noindex
X-PUBLISHED-TTL:PT1H
BEGIN:VTIMEZONE
TZID:Europe/Zurich
BEGIN:DAYLIGHT
TZOFFSETFROM:+0100
TZOFFSETTO:+0200
TZNAME:CEST
DTSTART:20210328T010000
END:DAYLIGHT
BEGIN:STANDARD
TZOFFSETFROM:+0200
TZOFFSETTO:+0100
TZNAME:CET
DTSTART:20211031T010000
END:STANDARD
BEGIN:DAYLIGHT
TZOFFSETFROM:+0100
TZOFFSETTO:+0200
TZNAME:CEST
DTSTART:20220327T010000
END:DAYLIGHT
BEGIN:STANDARD
TZOFFSETFROM:+0200
TZOFFSETTO:+0100
TZNAME:CET
DTSTART:20221030T010000
END:STANDARD
BEGIN:DAYLIGHT
TZOFFSETFROM:+0100
TZOFFSETTO:+0200
TZNAME:CEST
DTSTART:20230326T010000
END:DAYLIGHT
BEGIN:STANDARD
TZOFFSETFROM:+0200
TZOFFSETTO:+0100
TZNAME:CET
DTSTART:20231029T010000
END:STANDARD
END:VTIMEZONE
BEGIN:VEVENT
DTSTART;TZID=Europe/Zurich:20221118T180000
DTEND;TZID=Europe/Zurich:20221120T040000
DTSTAMP:20260425T004230
CREATED:20221022T152009Z
LAST-MODIFIED:20221022T152009Z
UID:17970-1668794400-1668916800@lsz.lu
SUMMARY:Intercercle 2022 – Extern
DESCRIPTION:Den 18.11 an 19.11 fënnt wéi all Joer eisen traditionelle Clear-The-Bottles Intercercle zu Zürich statt. \nZesumme mat iech stelle mer eis der schwiereger Aufgab dem Alkohol meeschter ze ginn.\nWëlls du dobäi sinn? Dann hues du ab dem 26. Oktober 19:00 d’Méiglechkeet dech fir den Intercercle mat folgenden Events unzemellen: \n\nFreides 18.11 Owes em 18:00 Auer: Invitéiert den LSZ op eng gutt Kéis-Fondue mat engem Patt.\nSamschdes 19.11 Mëttes em 13:30: Gett dann een Rallye duecht Stad Zürech organiséiert\, mat Genuch Stëmmung an flësseger Motivatioun duerch eis wonnerschéi Stad.\nSamschdes 19.11: Owes em 20:00 ass de legendäre Clear-The-Bottles. Open Bar am Lochness mat allem wat d’Häerz begiert bis 4:00\n\nMir freeën eis schon vill bekannten an och nei Gesiichter ze gesinn.\nDen LSZ Comité \nPlease select a valid form
URL:https://lsz.lu/event/intercercle-2022-extern/
END:VEVENT
BEGIN:VEVENT
DTSTART;TZID=Europe/Zurich:20221118T180000
DTEND;TZID=Europe/Zurich:20221120T040000
DTSTAMP:20260425T004230
CREATED:20221022T152221Z
LAST-MODIFIED:20221022T152235Z
UID:17972-1668794400-1668916800@lsz.lu
SUMMARY:Intercercle 2022 – Intern
DESCRIPTION:Den 18.11 an 19.11 fënnt wéi all Joer eisen traditionelle Clear-The-Bottles Intercercle zu Zürich statt. \nZesumme mat iech stelle mer eis der schwiereger Aufgab dem Alkohol meeschter ze ginn.\nWëlls du dobäi sinn? Dann hues du ab dem 24. Oktober 18:00 d’Méiglechkeet dech fir den Intercercle mat folgenden Events unzemellen: \n\nFreides 18.11 Owes em 18:00 Auer: Invitéiert den LSZ op eng gutt Kéis-Fondue mat engem Patt.\nSamschdes 19.11 Mëttes em 13:30: Gett dann een Rallye duecht Stad Zürech organiséiert\, mat Genuch Stëmmung an flësseger Motivatioun duerch eis wonnerschéi Stad.\nSamschdes 19.11: Owes em 20:00 ass de legendäre Clear-The-Bottles. Open Bar am Lochness mat allem wat d’Häerz begiert bis 4:00\n\nMir freeën eis schon vill bekannten an och nei Gesiichter ze gesinn.\nDen LSZ Comité \n  \nPlease select a valid form
URL:https://lsz.lu/event/intercercle-2022-intern/
END:VEVENT
END:VCALENDAR