BEGIN:VCALENDAR
VERSION:2.0
PRODID:-//LSZ - Letzebuerger Studenten zu Zürech - ECPv6.15.20//NONSGML v1.0//EN
CALSCALE:GREGORIAN
METHOD:PUBLISH
X-WR-CALNAME:LSZ - Letzebuerger Studenten zu Zürech
X-ORIGINAL-URL:https://lsz.lu
X-WR-CALDESC:Events for LSZ - Letzebuerger Studenten zu Zürech
REFRESH-INTERVAL;VALUE=DURATION:PT1H
X-Robots-Tag:noindex
X-PUBLISHED-TTL:PT1H
BEGIN:VTIMEZONE
TZID:Europe/Zurich
BEGIN:DAYLIGHT
TZOFFSETFROM:+0100
TZOFFSETTO:+0200
TZNAME:CEST
DTSTART:20210328T010000
END:DAYLIGHT
BEGIN:STANDARD
TZOFFSETFROM:+0200
TZOFFSETTO:+0100
TZNAME:CET
DTSTART:20211031T010000
END:STANDARD
BEGIN:DAYLIGHT
TZOFFSETFROM:+0100
TZOFFSETTO:+0200
TZNAME:CEST
DTSTART:20220327T010000
END:DAYLIGHT
BEGIN:STANDARD
TZOFFSETFROM:+0200
TZOFFSETTO:+0100
TZNAME:CET
DTSTART:20221030T010000
END:STANDARD
BEGIN:DAYLIGHT
TZOFFSETFROM:+0100
TZOFFSETTO:+0200
TZNAME:CEST
DTSTART:20230326T010000
END:DAYLIGHT
BEGIN:STANDARD
TZOFFSETFROM:+0200
TZOFFSETTO:+0100
TZNAME:CET
DTSTART:20231029T010000
END:STANDARD
END:VTIMEZONE
BEGIN:VEVENT
DTSTART;TZID=Europe/Zurich:20220521T180000
DTEND;TZID=Europe/Zurich:20220522T020000
DTSTAMP:20260425T003806
CREATED:20220320T105824Z
LAST-MODIFIED:20220425T100816Z
UID:16910-1653156000-1653184800@lsz.lu
SUMMARY:SPL 2022 Alumni
DESCRIPTION:Leif Alumnis vum LSZ\, \nFir de Kontakt tëscht den LSZler\, an den Alumnis weiderhin oprecht ze erhalen\, invitéieren mir Iech ganz häerzlech den 21. Mai op eis traditionell SPL.  \nD’Konzept vun der SPL sollt deenen meeschten nach bekannt sinn: En 3 – Gäng – Menü an enger schicker Ambiance mat\, aus Lëtzebuerg importéiertem\, Wäin a Cremant fir den ETH Professeren ze gedenken déi eis Lëtzebuerger Studenten wärend dem 2. Weltkrich bäi sech opgeholl hunn.  \nDëst ass mat een vun eisen gréissten Eventer am Joer an et géif eis immens freeën eng Rei Alumnis vum LSZ do begréissen ze kennen. Net nëmmen ass dëst fir eis eng flott Méiglechkeet vun Erfarungen aus der Beruffswelt ze heieren an vun ärer Uniszäit gezielt ze kréien\, mais et ass sécher och fir Iech eng super Alternativ dem LSZ nees mei no ze kommen an gezielt ze kréien\, wat sech alles säit ärer Uniszäit verännert huet.  \nD’SPL fënnt dëst Joer den 21. Mai am Zunfthaus zur Meisen (https://www.zunfthaus-zur-meisen.ch) statt. Dei genau Address ass Münsterhof 20\, CH-8001 Zürich. Mir géifen um 18:00 mam Apero starten. Wei gewinnt gelt op der SPL d’Tenue correcte. Dir hutt den Choix tëscht 2 Menüen (Fleesch an vegetaresch)\, mei Informatiounen dozou kommen no der Umeldung. D’Participatioun beleet sech op 150€.  \nFalls dir interesséiert sidd un der SPL deelzehuelen\, géifen mir Iech bieden Iech ab muer\, 25. Mäerz ab 12:00\, hei unzemellen: Please select a valid form \nD’Platzen (vir d’Alumnien) sinn op 40 Persounen limitéiert\, dir kennt Iech bis den 8. Abrëll umellen. \nBäi Froen kennt dir Iech gären bei eis mellen.  \nMir freeën eis Iech rem op d’SPL kënnen ze invitéieren\, an hoffen der vill vun Iech kënnen do ze gesinn.   \nVir de Comité vum LSZ \nSacha Thill (sacha@lsz.lu) & Sarah Hoffmann (sarah.hoffmann@lsz.lu) \n 
URL:https://lsz.lu/event/spl-2022/
LOCATION:Zunfthaus zur Meisen\, Münsterhof 20\, Zurich\, Switzerland
ORGANIZER;CN="LSZ Comite":MAILTO:comite@lsz.lu
END:VEVENT
END:VCALENDAR