BEGIN:VCALENDAR
VERSION:2.0
PRODID:-//LSZ - Letzebuerger Studenten zu Zürech - ECPv6.15.20//NONSGML v1.0//EN
CALSCALE:GREGORIAN
METHOD:PUBLISH
X-WR-CALNAME:LSZ - Letzebuerger Studenten zu Zürech
X-ORIGINAL-URL:https://lsz.lu
X-WR-CALDESC:Events for LSZ - Letzebuerger Studenten zu Zürech
REFRESH-INTERVAL;VALUE=DURATION:PT1H
X-Robots-Tag:noindex
X-PUBLISHED-TTL:PT1H
BEGIN:VTIMEZONE
TZID:Europe/Zurich
BEGIN:DAYLIGHT
TZOFFSETFROM:+0100
TZOFFSETTO:+0200
TZNAME:CEST
DTSTART:20210328T010000
END:DAYLIGHT
BEGIN:STANDARD
TZOFFSETFROM:+0200
TZOFFSETTO:+0100
TZNAME:CET
DTSTART:20211031T010000
END:STANDARD
BEGIN:DAYLIGHT
TZOFFSETFROM:+0100
TZOFFSETTO:+0200
TZNAME:CEST
DTSTART:20220327T010000
END:DAYLIGHT
BEGIN:STANDARD
TZOFFSETFROM:+0200
TZOFFSETTO:+0100
TZNAME:CET
DTSTART:20221030T010000
END:STANDARD
BEGIN:DAYLIGHT
TZOFFSETFROM:+0100
TZOFFSETTO:+0200
TZNAME:CEST
DTSTART:20230326T010000
END:DAYLIGHT
BEGIN:STANDARD
TZOFFSETFROM:+0200
TZOFFSETTO:+0100
TZNAME:CET
DTSTART:20231029T010000
END:STANDARD
END:VTIMEZONE
BEGIN:VEVENT
DTSTART;TZID=Europe/Zurich:20220520T170000
DTEND;TZID=Europe/Zurich:20220520T233000
DTSTAMP:20260425T003810
CREATED:20220520T093007Z
LAST-MODIFIED:20220520T091855Z
UID:17311-1653066000-1653089400@lsz.lu
SUMMARY:Beerpong & Semesteroofschloss
DESCRIPTION:Leif LSZler\, \nwell sech dëst Semester sou lues dem Enn zouneigt\, gëtt et och gläich Zäit fir eist lescht Event vum Semester: den alljärlechen Beerpong Tournoi an Semesteroofschloss. Schnaapt iech also ären Beerpong Partner an ergräift är Chance fir déi nei Beerpongchampions fir d’Joer 2022 ze ginn. Des wäerten den 2. Juni op der grousser Grillplaz Vitaparcours Zürich-Käferberg gekréint gi. Et wäerten dëst Joer och e puer vun eisen Fribourger an Lausanner Kolleegen eis Konkurrenz maachen kommen\, also mellt iech ënnert folgendem Link(eng Persoun pro Team) ab 19h an bis den 27.05 un fir eis Reputatioun ze halen: Please select a valid form (Platzen sinn op 32 Teams begrenzt). \n  \nBei guddem Gegrills a Gedrénks kenne mir den Owend dann och auskléngen loossen an op dat vergaangent Semester ustoussen. \n  \nMir freeën eis op iech\,  \nären Comité \n 
URL:https://lsz.lu/event/beerpong-semesteroofschloss/
LOCATION:Zürich\, Zürich\, Switzerland
ORGANIZER;CN="LSZ Comite":MAILTO:comite@lsz.lu
END:VEVENT
END:VCALENDAR