BEGIN:VCALENDAR
VERSION:2.0
PRODID:-//LSZ - Letzebuerger Studenten zu Zürech - ECPv6.15.20//NONSGML v1.0//EN
CALSCALE:GREGORIAN
METHOD:PUBLISH
X-ORIGINAL-URL:https://lsz.lu
X-WR-CALDESC:Events for LSZ - Letzebuerger Studenten zu Zürech
REFRESH-INTERVAL;VALUE=DURATION:PT1H
X-Robots-Tag:noindex
X-PUBLISHED-TTL:PT1H
BEGIN:VTIMEZONE
TZID:Europe/Zurich
BEGIN:DAYLIGHT
TZOFFSETFROM:+0100
TZOFFSETTO:+0200
TZNAME:CEST
DTSTART:20210328T010000
END:DAYLIGHT
BEGIN:STANDARD
TZOFFSETFROM:+0200
TZOFFSETTO:+0100
TZNAME:CET
DTSTART:20211031T010000
END:STANDARD
BEGIN:DAYLIGHT
TZOFFSETFROM:+0100
TZOFFSETTO:+0200
TZNAME:CEST
DTSTART:20220327T010000
END:DAYLIGHT
BEGIN:STANDARD
TZOFFSETFROM:+0200
TZOFFSETTO:+0100
TZNAME:CET
DTSTART:20221030T010000
END:STANDARD
BEGIN:DAYLIGHT
TZOFFSETFROM:+0100
TZOFFSETTO:+0200
TZNAME:CEST
DTSTART:20230326T010000
END:DAYLIGHT
BEGIN:STANDARD
TZOFFSETFROM:+0200
TZOFFSETTO:+0100
TZNAME:CET
DTSTART:20231029T010000
END:STANDARD
END:VTIMEZONE
BEGIN:VEVENT
DTSTART;VALUE=DATE:20220513
DTEND;VALUE=DATE:20220516
DTSTAMP:20260425T004224
CREATED:20220411T075258Z
LAST-MODIFIED:20220411T075258Z
UID:17052-1652400000-1652659199@lsz.lu
SUMMARY:Bologna 2022
DESCRIPTION:Léif LSZler\, \n  \nGeschwënn ass et endlech esou wäit\, eis Clubrees 2022 steet virun der Dier! Dëst Joer féiert eis eis Rees an d’Haaptstad vun der norditalienescher Regioun Emilia-Romagna\, an zwar an déi wonnerschéi Stad Bologna.  \n  \nMir fueren Freidegmoies\, den 13. Mee\, vum Zürecher HB mam Zuch bis op Bologna\, wou mir am Hostel Combo Bologna iwwernuechten. Nees zeréck op Zürech geet et Sonndes de 15.5. am spéiden Nomëtteg. \n  \nFir en spannenden Programm ass och gesuergt. Freides am Nomëtte gi mir zesummen d’Stad an den Uni-Campus entdecken an duerno maache mir eis en flotten Clubowend. Samsdes huelen mer den Zuch bis an d’Nopeschstad Modena\, wou mer den bekannte Ferrari-Musée kucken ginn. Owes gi mer dann nees zu Bologna all zesumme gutt italienesch iessen. Sonndes besiche mir de MAMbo\, de Museum of Modern Art Bologna\, iert mer eis Owes leider nees op de Réckwee maachen mussen. Do dernierft ass awer och genuch Fräizäit\, wou dir dat maache kennt\, wourop der Loscht hutt. \n  \nAn Italien gëllen bis den 30. Abrëll nach relativ strikt Covid-Mesuren\, et brauch een den Covid-Check z.B. fir an den Intercityzich an och fir am Restaurant dobannen z’iessen. Méi detailléiert Infoen zu den aktuellen Covid-Mesuren fannt dir hei. Wéi eng Mesuren nom 30. Abrëll an Italien ginn\, wësse mir leider nach net. Mir wäerten iech um Courant halen\, wéi sech d’Situatioun an Italien entwéckelt. \n  \nD’Participatioun läit dëst Joer bei 100€\, do sinn den Transport\, den Hostel\, een Nuechtiessen an déi kleng Aktivitéiten déi mir all zesumme maachen\, mat abegraff. \n  \nDir kennt iech vum Mëttwoch den 13.4. (18h00) bis den 20.4. (18h00) op eiser Website umellen. D’Umeldungen verlafen nom Prioritéitenprinzip aus eisen APB ausser dass d’Punkten 2 an 3 net gëllen. D’Prioritéite sinn also: \n\nComitésmemberen\nAktiv Memberen\nPassiv Memberen\nExterner\n\nD’Plaze sinn op 35 Persounen begrenzt an bannent de Kategorien vun de Prioritéiten gelt den Prinzip vum “first come first served”. Mellt iech also séier un! \n  \nWann d’Umeldungsphas eriwwer ass\, kritt dir Bescheed gesot\, op dir eng Platz kritt hutt. Zu deem Zäitpunkt kritt dir och d’Detailer fir d’Participatioun ze bezuelen. \n  \nBei Froen kennt dir iech gär bei de Responsabelen vun der Clubrees mellen: Cedric Mulders (cedric@lsz.lu) an Kéo Oran (keo@lsz.lu).  \n  \nMir freeën eis op eng flott Rees mam LSZ! \n  \nDe Comité \n  \n  \nPlease select a valid form
URL:https://lsz.lu/event/bologna-2022/
END:VEVENT
END:VCALENDAR