BEGIN:VCALENDAR
VERSION:2.0
PRODID:-//LSZ - Letzebuerger Studenten zu Zürech - ECPv6.15.20//NONSGML v1.0//EN
CALSCALE:GREGORIAN
METHOD:PUBLISH
X-WR-CALNAME:LSZ - Letzebuerger Studenten zu Zürech
X-ORIGINAL-URL:https://lsz.lu
X-WR-CALDESC:Events for LSZ - Letzebuerger Studenten zu Zürech
REFRESH-INTERVAL;VALUE=DURATION:PT1H
X-Robots-Tag:noindex
X-PUBLISHED-TTL:PT1H
BEGIN:VTIMEZONE
TZID:Europe/Zurich
BEGIN:DAYLIGHT
TZOFFSETFROM:+0100
TZOFFSETTO:+0200
TZNAME:CEST
DTSTART:20210328T010000
END:DAYLIGHT
BEGIN:STANDARD
TZOFFSETFROM:+0200
TZOFFSETTO:+0100
TZNAME:CET
DTSTART:20211031T010000
END:STANDARD
BEGIN:DAYLIGHT
TZOFFSETFROM:+0100
TZOFFSETTO:+0200
TZNAME:CEST
DTSTART:20220327T010000
END:DAYLIGHT
BEGIN:STANDARD
TZOFFSETFROM:+0200
TZOFFSETTO:+0100
TZNAME:CET
DTSTART:20221030T010000
END:STANDARD
BEGIN:DAYLIGHT
TZOFFSETFROM:+0100
TZOFFSETTO:+0200
TZNAME:CEST
DTSTART:20230326T010000
END:DAYLIGHT
BEGIN:STANDARD
TZOFFSETFROM:+0200
TZOFFSETTO:+0100
TZNAME:CET
DTSTART:20231029T010000
END:STANDARD
END:VTIMEZONE
BEGIN:VEVENT
DTSTART;TZID=Europe/Zurich:20220430T140000
DTEND;TZID=Europe/Zurich:20220430T233000
DTSTAMP:20260424T225918
CREATED:20220402T211548Z
LAST-MODIFIED:20220523T144437Z
UID:16956-1651327200-1651361400@lsz.lu
SUMMARY:Zürcher Luft
DESCRIPTION:Léif LSZler\,  \nMat grousser Virfreed invitéieren mir iech alleguer Samschdes\, den 30. Abrëll op eist nächst (Gönner)Event “Zürcher Luft”. \nLass geet et samschdes Mettes um 14:00 bei der Tramstatioun Triemli wou mir eis all zesummen treffen\, d’Iessen an d’Gedrenks ënnert eis LSZler opdeelen\, an dann den Uetlibierg eropwanderen. Uewen um Bierg gëtt dann zesummen gegrillt an gedronk.  \nNodeems mir eis nees op den Wee fir rof machen\, geet et um 21:00 am Lochness weider. De Prinzip wäert deenen meeschten vum Clear the Bottles bekannt sinn: Open Bar\, stëmmungsvoll Musek\, genuch ze drenken\, an dat bis spéit an d’Nuet eran! Vu dass mir vermeiden wëllen dass den ganzen Alkohol schon virun 22 Auer fort ass\, mussen mir iech leider eng Participatioun vun 15€ froen\, esou kenne mir dofir garantéieren\, dass den ganzen Owend iwwer fir genuch Gedrénks gesuergt ass. \nAm Lochness gëtt et eng Limitt op 100 Leit an d’Umeldungen lafen nom Prinzip vun eisen APB. Falls dir trotzdeem gären Externer\, ganz gären schwäizer Kolleegen\, invitéiert\, kënnt dir dëst maachen\, dir musst deenen den Link dann weiderschécken an sie mussen sech och umellen. Sidd iech an deem Fall just bewosst dass Externer laut dem Prioritéitsprinzip awer als lescht eng Platz kréien.  \nUmellen kennt dir iech ab dem 8. Abrëll bis den 15. Abrëll hei: Please select a valid form \nMir freeën eis op iech! \nde Comité \n 
URL:https://lsz.lu/event/zurcherluft/
END:VEVENT
END:VCALENDAR