BEGIN:VCALENDAR
VERSION:2.0
PRODID:-//LSZ - Letzebuerger Studenten zu Zürech - ECPv6.15.20//NONSGML v1.0//EN
CALSCALE:GREGORIAN
METHOD:PUBLISH
X-ORIGINAL-URL:https://lsz.lu
X-WR-CALDESC:Events for LSZ - Letzebuerger Studenten zu Zürech
REFRESH-INTERVAL;VALUE=DURATION:PT1H
X-Robots-Tag:noindex
X-PUBLISHED-TTL:PT1H
BEGIN:VTIMEZONE
TZID:Europe/Zurich
BEGIN:DAYLIGHT
TZOFFSETFROM:+0100
TZOFFSETTO:+0200
TZNAME:CEST
DTSTART:20200329T010000
END:DAYLIGHT
BEGIN:STANDARD
TZOFFSETFROM:+0200
TZOFFSETTO:+0100
TZNAME:CET
DTSTART:20201025T010000
END:STANDARD
BEGIN:DAYLIGHT
TZOFFSETFROM:+0100
TZOFFSETTO:+0200
TZNAME:CEST
DTSTART:20210328T010000
END:DAYLIGHT
BEGIN:STANDARD
TZOFFSETFROM:+0200
TZOFFSETTO:+0100
TZNAME:CET
DTSTART:20211031T010000
END:STANDARD
BEGIN:DAYLIGHT
TZOFFSETFROM:+0100
TZOFFSETTO:+0200
TZNAME:CEST
DTSTART:20220327T010000
END:DAYLIGHT
BEGIN:STANDARD
TZOFFSETFROM:+0200
TZOFFSETTO:+0100
TZNAME:CET
DTSTART:20221030T010000
END:STANDARD
END:VTIMEZONE
BEGIN:VEVENT
DTSTART;TZID=Europe/Zurich:20211119T180000
DTEND;TZID=Europe/Zurich:20211121T040000
DTSTAMP:20260424T213638
CREATED:20211024T231544Z
LAST-MODIFIED:20211025T190409Z
UID:15915-1637344800-1637467200@lsz.lu
SUMMARY:Intercercle 2021 - Intern
DESCRIPTION:Den 19.11 an 20.11 fënnt wéi all Joer eisen traditionelle Clear-The-Bottles Intercercle zu Zürich statt.\nZesumme mat iech stelle mer eis der schwiereger Aufgab dem Alkohol meeschter ze ginn. \nWëlls du dobäi sinn? Dann hues du ab Dënschten den 26ten um 12:00 d’Méiglechkeet dech fir den Intercercle mat folgenden Events unzemellen: \n\nFreides 19.11 Owes em 18:00 Auer: Invitéiert den LSZ op eng gutt Kéis-Fondue mat engem Patt.\nSamschdes 20.11 Mëttes em 13:30: Gett dann een Rallye duecht Stad Zürech organiséiert\, mat Genuch Stëmmung an flësseger Motivatioun duerch eis wonnerschéi Stad.\nSamschdes 20.11: Owes em 20:00 ass de legendäre Clear-The-Bottles. Open Bar am Sektor 11 mat allem wat d’Häerz begiert bis 4:00.\n\nMir freeën eis schon vill bekannten an och nei Gesiichter ze gesinn\,\nÄren Comité \nPlease select a valid form
URL:https://lsz.lu/event/intercercle-2021-intern/
LOCATION:Zürich\, Zürich\, Switzerland
ORGANIZER;CN="LSZ Comite":MAILTO:comite@lsz.lu
END:VEVENT
BEGIN:VEVENT
DTSTART;TZID=Europe/Zurich:20211119T180000
DTEND;TZID=Europe/Zurich:20211121T050000
DTSTAMP:20260424T213638
CREATED:20211024T224644Z
LAST-MODIFIED:20211025T173028Z
UID:15910-1637344800-1637470800@lsz.lu
SUMMARY:Intercercle 2021 - Extern
DESCRIPTION:Den 19.11 an 20.11 fënnt wéi all Joer eisen traditionelle Clear-The-Bottles Intercercle zu Zürich statt. \nZesumme mat iech stelle mer eis der schwiereger Aufgab dem Alkohol meeschter ze ginn.\nWëlls du dobäi sinn? Dann hues du ab dem 29. Oktober 12:00 d’Méiglechkeet dech fir den Intercercle mat folgenden Events unzemellen: \n\nFreides 19.11 Owes em 18:00 Auer: Invitéiert den LSZ op eng gutt Kéis-Fondue mat engem Patt.\nSamschdes 20.11 Mëttes em 13:30: Gett dann een Rallye duecht Stad Zürech organiséiert\, mat Genuch Stëmmung an flësseger Motivatioun duerch eis wonnerschéi Stad.\nSamschdes 20.11: Owes em 20:00 ass de legendäre Clear-The-Bottles. Open Bar am Sektor 11 mat allem wat d’Häerz begiert bis 4:00\n\nMir freeën eis schon vill bekannten an och nei Gesiichter ze gesinn.\nDen LSZ Comité \n  \nPlease select a valid form
URL:https://lsz.lu/event/intercercle-2021-extern/
LOCATION:Zürich\, Zürich\, Switzerland
ORGANIZER;CN="LSZ Comite":MAILTO:comite@lsz.lu
END:VEVENT
END:VCALENDAR