BEGIN:VCALENDAR
VERSION:2.0
PRODID:-//LSZ - Letzebuerger Studenten zu Zürech - ECPv6.15.20//NONSGML v1.0//EN
CALSCALE:GREGORIAN
METHOD:PUBLISH
X-WR-CALNAME:LSZ - Letzebuerger Studenten zu Zürech
X-ORIGINAL-URL:https://lsz.lu
X-WR-CALDESC:Events for LSZ - Letzebuerger Studenten zu Zürech
REFRESH-INTERVAL;VALUE=DURATION:PT1H
X-Robots-Tag:noindex
X-PUBLISHED-TTL:PT1H
BEGIN:VTIMEZONE
TZID:Europe/Zurich
BEGIN:DAYLIGHT
TZOFFSETFROM:+0100
TZOFFSETTO:+0200
TZNAME:CEST
DTSTART:20200329T010000
END:DAYLIGHT
BEGIN:STANDARD
TZOFFSETFROM:+0200
TZOFFSETTO:+0100
TZNAME:CET
DTSTART:20201025T010000
END:STANDARD
BEGIN:DAYLIGHT
TZOFFSETFROM:+0100
TZOFFSETTO:+0200
TZNAME:CEST
DTSTART:20210328T010000
END:DAYLIGHT
BEGIN:STANDARD
TZOFFSETFROM:+0200
TZOFFSETTO:+0100
TZNAME:CET
DTSTART:20211031T010000
END:STANDARD
BEGIN:DAYLIGHT
TZOFFSETFROM:+0100
TZOFFSETTO:+0200
TZNAME:CEST
DTSTART:20220327T010000
END:DAYLIGHT
BEGIN:STANDARD
TZOFFSETFROM:+0200
TZOFFSETTO:+0100
TZNAME:CET
DTSTART:20221030T010000
END:STANDARD
END:VTIMEZONE
BEGIN:VEVENT
DTSTART;TZID=Europe/Zurich:20210305T070000
DTEND;TZID=Europe/Zurich:20210307T190000
DTSTAMP:20260424T225922
CREATED:20210114T183136Z
LAST-MODIFIED:20210115T092011Z
UID:14551-1614927600-1615143600@lsz.lu
SUMMARY:Wantersport Weekend
DESCRIPTION:Léif LSZ’ler\, \nTraditionell geet den LSZ och dës Wantersaison nees an d’Bierger a jauft mat den hëlzene Brieder d’Pisten erof. Natierlech ass eis bewosst\, dass déi aktuell Corona-Lag net immens villverspriechend ausgesäit. Allerdéngs ass et fir ons wichteg d’Eventer sou wäit ewéi méiglech ze plangen an zu engem raisonnabelen Zäitpunkt d’Decisioun ze huelen\, op d’Aktivitéit ka stattfannen oder net. \nAus dësem Grond bleiwe mir optimistesch an hunn decidéiert d’Umeldunge fir den LSZ-Wantersportweekend opzemaachen. Am Fall wou mer missten de Weekend ofsoen\, falen natierlech keng Käschte fir den ugemellte Member un. \nMat engem neie Konzept geet et dëst Kéier op d’Lenzerheide an de Chalet Raschainas\, dee mir vir eis eleng gelount hunn. D’Skigebitt Arosa- Lenzerheide zielt mat sengen 225 Pistenkilometer zu engem vun deene gréissten aus der Schwäiz. \nLink: Gruppenferienhaus | Raschainas – Lenzerheide \nLink: https://arosalenzerheide.swiss/de/Winter/Skifahren-Snowboarden/Schneesportgebiet \nWei den Numm et scho verréit\, soll et sech dëst Joer net nëmmen em d’Skifueren dréien\, mee och déi manner skibegeeschtert ënnert iech wäerten op hier Käschte kommen\, sief et beim Schlittfueren\, Wanderen\, Schlittschongfueren oder vir einfach eng flott Zäit zesummen ze verbréngen.    \nMéiglech Aktivitéiten fannt dir ënnert folgenden Links: \nSchlittfueren: \nhttps://arosalenzerheide.swiss/de/Region/Lenzerheide/Winter/Weitere-Winteraktivitaeten/Schlitteln \nFoxtrail: \nhttps://arosalenzerheide.swiss/de/Region/Lenzerheide/Winter/Weitere-Winteraktivitaeten/Foxtrail \nSchlittschong: \nhttps://arosalenzerheide.swiss/de/Region/Lenzerheide/Winter/Weitere-Winteraktivitaeten/Eissport \nSchneeschuhwanderung: \nhttps://arosalenzerheide.swiss/de/Region/Lenzerheide/Winter/Weitere-Winteraktivitaeten/Schneeschuhlaufen \nGitt dowéinst direkt bei der Umeldung un ob dir wëllt Skifueren oder net (dëst ass wichteg wéinst der Skipassreservatioun). E Mix aus béiden ass natierlech och méiglech\, sot eis dofir awer w.e.g. am viraus Bescheed. \nDen Depart ass geplangt Freides de 05.03 um 7:00h um Campus Hönggerberg a mer wäerte Sonndes de 07.03 géint 19:00h rëm zu Zürich sinn. Genau Informatiounen zum Depart a Retour kritt dier zu engem méi spéideren Zäitpunkt. \nD’Participatioun läit dëst Joer bei ongeféier 300€ fir déi wou Skifueren\, an ongeféier 165€ fir déi wou net Skifueren. An deem Präis ass ënner anerem de Ski-\, Schneischung- oder Schlittverleih resp. d’Mëttegiessen nach net mat aberechent. \nIwwert d’Feierdeeg huet sech de Comité nei verbindlech Umelldungsconditiounen (APB) iwwerluecht. Liest iech déi w.e.g. emol gutt duerch firundeems dir iech umellt. Link: https://lsz.lu/wp-content/uploads/2021/01/APB.pdf  \nD’Platze fir de Wantersportweekend sinn op 30 Persoune limitéiert. Dir kennt iech ab dem 16.01 (18:00) bis den 16.02 (18:00) hei ënnendrënner umellen. Eréischt no där Period kritt dir vun eis Bescheed gesot ob dir definitiv kennt mat goen. Ass dëst de Fall\, bieden mer iech ab dësem Zäitpunkt är Participatioun ze bezuelen.\nSpéider Umeldunge sinn och méiglech\, eventuell musst dir dann awer domat rechnen op der Wardelescht ze landen. \nMir freeën eis op ee flotte Weekend! \nde Comité \nResponsables Wantersportweekend: \nFanny Goy (fanny@lsz.lu); Felix Engel (felix.engel@lsz.lu);  Sacha Thill (sacha@lsz.lu) \nPlease select a valid form
URL:https://lsz.lu/event/wantersport-weekend/
LOCATION:Gruppenferienhaus Raschainas\, Voa Tgantieni 2A\, Lenzerheide\, Graubünden\, 7078\, Switzerland
ORGANIZER;CN="LSZ Comite":MAILTO:comite@lsz.lu
END:VEVENT
END:VCALENDAR