BEGIN:VCALENDAR
VERSION:2.0
PRODID:-//LSZ - Letzebuerger Studenten zu Zürech - ECPv6.15.20//NONSGML v1.0//EN
CALSCALE:GREGORIAN
METHOD:PUBLISH
X-WR-CALNAME:LSZ - Letzebuerger Studenten zu Zürech
X-ORIGINAL-URL:https://lsz.lu
X-WR-CALDESC:Events for LSZ - Letzebuerger Studenten zu Zürech
REFRESH-INTERVAL;VALUE=DURATION:PT1H
X-Robots-Tag:noindex
X-PUBLISHED-TTL:PT1H
BEGIN:VTIMEZONE
TZID:Europe/Zurich
BEGIN:DAYLIGHT
TZOFFSETFROM:+0100
TZOFFSETTO:+0200
TZNAME:CEST
DTSTART:20180325T010000
END:DAYLIGHT
BEGIN:STANDARD
TZOFFSETFROM:+0200
TZOFFSETTO:+0100
TZNAME:CET
DTSTART:20181028T010000
END:STANDARD
BEGIN:DAYLIGHT
TZOFFSETFROM:+0100
TZOFFSETTO:+0200
TZNAME:CEST
DTSTART:20190331T010000
END:DAYLIGHT
BEGIN:STANDARD
TZOFFSETFROM:+0200
TZOFFSETTO:+0100
TZNAME:CET
DTSTART:20191027T010000
END:STANDARD
BEGIN:DAYLIGHT
TZOFFSETFROM:+0100
TZOFFSETTO:+0200
TZNAME:CEST
DTSTART:20200329T010000
END:DAYLIGHT
BEGIN:STANDARD
TZOFFSETFROM:+0200
TZOFFSETTO:+0100
TZNAME:CET
DTSTART:20201025T010000
END:STANDARD
END:VTIMEZONE
BEGIN:VEVENT
DTSTART;TZID=Europe/Zurich:20191116T090000
DTEND;TZID=Europe/Zurich:20191116T190000
DTSTAMP:20260425T163159
CREATED:20191031T103944Z
LAST-MODIFIED:20191031T103944Z
UID:12922-1573894800-1573930800@lsz.lu
SUMMARY:Kulturausfluch
DESCRIPTION:Et geet moies um 9 vum HB fort an dann op Basel an den Tinguely Museum. Den Jean Tinguely ass en schwäizer Kënschtler awer och Ingenieur\, deen virun allem bekannt ass vir seng grouss beweeglech a verformbar Maschinnen déi en gebaut huet. Nom Musée geet et dann an eng Pizzeria an dono dréinen mer nach en Tour duerch d’Baseler Alstad mat engem Stopp an engem Bistro wou et nach en Patt ze drénken gëtt\, éiert mer eis erëm op de Wee Richtung Zürech maachen. Ob mer mam Zuch oder Autoen op Basel fueren gesi mer en fonction vun de Leit déi en Auto zur Verfügung stellen. Den Départ Moies zu Zürech ass awer egalwei um 9:00. \n  \nPlease select a valid form
URL:https://lsz.lu/event/kulturausfluch/
LOCATION:Basel\, Basel\, Switzerland
CATEGORIES:Event,Member
ORGANIZER;CN="LSZ Comite":MAILTO:comite@lsz.lu
END:VEVENT
END:VCALENDAR