BEGIN:VCALENDAR
VERSION:2.0
PRODID:-//LSZ - Letzebuerger Studenten zu Zürech - ECPv6.15.20//NONSGML v1.0//EN
CALSCALE:GREGORIAN
METHOD:PUBLISH
X-ORIGINAL-URL:https://lsz.lu
X-WR-CALDESC:Events for LSZ - Letzebuerger Studenten zu Zürech
REFRESH-INTERVAL;VALUE=DURATION:PT1H
X-Robots-Tag:noindex
X-PUBLISHED-TTL:PT1H
BEGIN:VTIMEZONE
TZID:Europe/Zurich
BEGIN:DAYLIGHT
TZOFFSETFROM:+0100
TZOFFSETTO:+0200
TZNAME:CEST
DTSTART:20180325T010000
END:DAYLIGHT
BEGIN:STANDARD
TZOFFSETFROM:+0200
TZOFFSETTO:+0100
TZNAME:CET
DTSTART:20181028T010000
END:STANDARD
BEGIN:DAYLIGHT
TZOFFSETFROM:+0100
TZOFFSETTO:+0200
TZNAME:CEST
DTSTART:20190331T010000
END:DAYLIGHT
BEGIN:STANDARD
TZOFFSETFROM:+0200
TZOFFSETTO:+0100
TZNAME:CET
DTSTART:20191027T010000
END:STANDARD
BEGIN:DAYLIGHT
TZOFFSETFROM:+0100
TZOFFSETTO:+0200
TZNAME:CEST
DTSTART:20200329T010000
END:DAYLIGHT
BEGIN:STANDARD
TZOFFSETFROM:+0200
TZOFFSETTO:+0100
TZNAME:CET
DTSTART:20201025T010000
END:STANDARD
END:VTIMEZONE
BEGIN:VEVENT
DTSTART;TZID=Europe/Zurich:20191115T180000
DTEND;TZID=Europe/Zurich:20191115T210000
DTSTAMP:20260425T163526
CREATED:20190515T134532Z
LAST-MODIFIED:20191024T150520Z
UID:10160-1573840800-1573851600@lsz.lu
SUMMARY:Visite Engie Solelec
DESCRIPTION:Eisen neien Sponsor Engie Solelec kennt den 15.11 op Zürich an gett eis um 18:00 eng Präsentatioun vun hirer Entreprise. \nDest Event ass virun allem fir Bauingénieueren an Elektrotechniker interessant\, et ass awer jiddereen wëllkomm. \nMëllt iech w.e.g. un\, soudass mir der Entreprise kennen Bescheed soen an fir dass dir och dono kennt mat op den Apéritif! \n  \nPlease select a valid form
URL:https://lsz.lu/event/visite-engie-solelec/
LOCATION:ETH Zentrum\, Rämistrasse 101\, Zurich\, Zurich\, 8092\, Switzerland
CATEGORIES:Member,Visite Entreprise
ORGANIZER;CN="LSZ Comite":MAILTO:comite@lsz.lu
END:VEVENT
END:VCALENDAR