BEGIN:VCALENDAR
VERSION:2.0
PRODID:-//LSZ - Letzebuerger Studenten zu Zürech - ECPv5.9.1//NONSGML v1.0//EN
CALSCALE:GREGORIAN
METHOD:PUBLISH
X-WR-CALNAME:LSZ - Letzebuerger Studenten zu Zürech
X-ORIGINAL-URL:https://lsz.lu
X-WR-CALDESC:Events for LSZ - Letzebuerger Studenten zu Zürech
BEGIN:VTIMEZONE
TZID:Europe/Zurich
BEGIN:DAYLIGHT
TZOFFSETFROM:+0100
TZOFFSETTO:+0200
TZNAME:CEST
DTSTART:20200329T010000
END:DAYLIGHT
BEGIN:STANDARD
TZOFFSETFROM:+0200
TZOFFSETTO:+0100
TZNAME:CET
DTSTART:20201025T010000
END:STANDARD
END:VTIMEZONE
BEGIN:VEVENT
DTSTART;VALUE=DATE:20200321
DTEND;VALUE=DATE:20200322
DTSTAMP:20211008T131829
CREATED:20200210T160710Z
LAST-MODIFIED:20200210T173538Z
UID:13675-1584748800-1584835199@lsz.lu
SUMMARY:Swisscup 2020
DESCRIPTION:Hei kanns du dech umellen fir den Swisscup 2020 \, deen Samschdes den 21. Mäerz an der Sportshal um Campus Hönggerberg stattfënnt. \nDen Tournoi zitt sech vun Samschdegmoies géint 10 Auer bis an den spéiden Nomëtteg. Ween matmaachen wëll\, oder awer och nëmmen ufeieren kommen wëll ass häerzlech wëllkomm! Fir Béier an sportlech Leckerbëssen ass gesuergt! \nWichteg ass dass all Sportler seng gülteg(!) Studentenkaart (Legi) derbäi huet an Haaleschung matbréngt déi keng Sträifen an den Terrain maachen. \nNom sportlechen Exploit geet et dann Owes géint 19:30 an den Restaurant Commihalle (https://www.commercio.ch/de/commihalle/ ) wou et wäert Nuddelen à volonté ginn mat verschiddenen Zosen. Bei Intoleranzen schreift et einfach an d’Kommentarfeld\, do kucken mer dann eng Léisung ze fannen. Fir déi Motivéiert geet et dann dono nach op den Tour🍻 \nBei weideren Froen mell dech einfach bei dem Responsabelen vun dengem Cercle oder direkt beim Felix Engel.\n			\n				\n				\n				\n\n\n\nSwisscup 2020\n\n\n\n\n\n\n\n\n    Virnumm\n        *\n    \n    \n    \n    \n\n\n    Nonumm\n        *\n    \n    \n    \n    \n\n\n    Email\n        *\n    \n    \n    \n    \n\n\n    Telefonsnummer\n        *\n    \n    \n    \n    \n\n\n    Bei wéiengen Sportarten spills de mat ?\n        *\n    \n    		 Fussball\n		 Basketball\n		 Volleyball\n		 Supporter\n\n    \n    \n\n\n    Fir wéieen Cercel trëtts du un ?\n        *\n    \n    				 LSZ\n				 AELL\n				 Friblëtz\n\n    \n    \n\n\n    Kënns du mat owes an den Restaurant iessen ? ( Spaghettata à volonté an der Commihalle à 26\,50 CHF)\n        *\n    \n    				 Jo\n				 Nee\n\n    \n    \n\n\n    Kommentar (Allergien\, Infos\, etc ..)\n        \n    \n    \n    \n    \n\n\n    Tags\n        \n    \n    \n    \n    \n\n	\n	\n\nSubmit
URL:https://lsz.lu/event/swisscup-2020/
LOCATION:ASVZ Sporthalle Hönggerberg\, Robert-Gnehm-Platz 1\, Zurich\, Zurich\, 8093\, Switzerland
CATEGORIES:Event
ORGANIZER;CN="LSZ%20Comite":MAILTO:comite@lsz.lu
END:VEVENT
END:VCALENDAR